BEGIN:VCALENDAR
VERSION:2.0
PRODID:-// - ECPv6.15.19//NONSGML v1.0//EN
CALSCALE:GREGORIAN
METHOD:PUBLISH
X-ORIGINAL-URL:https://bsboffice.de
X-WR-CALDESC:Veranstaltungen für 
REFRESH-INTERVAL;VALUE=DURATION:PT1H
X-Robots-Tag:noindex
X-PUBLISHED-TTL:PT1H
BEGIN:VTIMEZONE
TZID:UTC
BEGIN:STANDARD
TZOFFSETFROM:+0000
TZOFFSETTO:+0000
TZNAME:UTC
DTSTART:20160101T000000
END:STANDARD
END:VTIMEZONE
BEGIN:VEVENT
DTSTART;TZID=UTC:20170913T180000
DTEND;TZID=UTC:20170914T130000
DTSTAMP:20260425T111357
CREATED:20170711T142019Z
LAST-MODIFIED:20170711T142019Z
UID:6260-1505325600-1505394000@bsboffice.de
SUMMARY:RG Hannover: Hotelbesichtigung „Hotel Celler Tor“
DESCRIPTION:Entdecken Sie das familiengeführte\, 4 Sterne superior Ringhotel Celler Tor für Ihre zukünftigen und vielfältigen Veranstaltungen. \nDie Inhaberin Susanne Ostler lädt uns zu einer Hotelführung beim Indoorgolf durch die Hotelflure mit Snack- und Getränkestationen ein. Lernen Sie die großzügige Hotelanlage komplett kennen und bleiben eine Nacht im Einzelzimmer zum Sonderpreis von € 50\,00\, inkl. Schwimmbadnutzung und Frühstücksbuffet. Am nächsten Morgen entdecken wir die malerische Fachwerkstadt Celle bei einer Stadtführung um 11:00 Uhr (Dauer ca. 1\,5 Stunden). \nZimmerreservierungen aus dem Kontingent sind bis max. 15.07.2017 möglich. \n 
URL:https://bsboffice.de/event/rg-hannover-hotelbesichtigung-hotel-celler-tor/
LOCATION:Ringhotel Celler Tor\, Scheuener Str. 2\, Celle\, 29229\, Deutschland
CATEGORIES:Regionalgruppe Hannover
ORGANIZER;CN="Regionalgruppe Hannover":MAILTO:hannover@bsb-office.de
END:VEVENT
BEGIN:VEVENT
DTSTART;TZID=UTC:20170914T080000
DTEND;TZID=UTC:20170915T170000
DTSTAMP:20260425T111357
CREATED:20170526T111828Z
LAST-MODIFIED:20170526T111828Z
UID:6079-1505376000-1505494800@bsboffice.de
SUMMARY:RG Köln: Betriebsbesichtigung Fa. HSM
DESCRIPTION:
URL:https://bsboffice.de/event/rg-koeln-betriebsbesichtigung-fa-hsm/
CATEGORIES:Regionalgruppe Köln,Regionalgruppen
END:VEVENT
BEGIN:VEVENT
DTSTART;TZID=UTC:20170914T180000
DTEND;TZID=UTC:20170914T220000
DTSTAMP:20260425T111357
CREATED:20170609T145534Z
LAST-MODIFIED:20170609T145534Z
UID:6144-1505412000-1505426400@bsboffice.de
SUMMARY:RG Hamburg: Betriebliche Gesundheitsförderung
DESCRIPTION:Gesundheit und Wohlbefinden haben erheblichen Einfluss auf den beruflichen Erfolg. Die Gesundheit zu erhalten und zu fördern\, wird in der heutigen Zeit zunehmend wichtiger. Die vielfältigen Anforderungen im Berufs- und Privatleben erfordern Widerstandsressourcen\, um die Gesundheit zu stärken.\nBeginn: 18.00 Uhr\nReferentin:  Mailyn Marie Kröger\nOrt  RehaCentrum Hamburg\, Berliner Tor \nAnmeldung bitte unter hamburg@bsb-office.de
URL:https://bsboffice.de/event/rg-hamburg-betriebliche-gesundheitsfoerderung/
LOCATION:RehaCentrum Hamburg\, Berliner Tor\, Hamburg
CATEGORIES:Regionalgruppe Hamburg
ORGANIZER;CN="bSb Regionalgruppe Hamburg":MAILTO:hamburg@bsb-office.de
END:VEVENT
END:VCALENDAR