BEGIN:VCALENDAR
VERSION:2.0
PRODID:-// - ECPv6.15.19//NONSGML v1.0//EN
CALSCALE:GREGORIAN
METHOD:PUBLISH
X-ORIGINAL-URL:https://bsboffice.de
X-WR-CALDESC:Veranstaltungen für 
REFRESH-INTERVAL;VALUE=DURATION:PT1H
X-Robots-Tag:noindex
X-PUBLISHED-TTL:PT1H
BEGIN:VTIMEZONE
TZID:UTC
BEGIN:STANDARD
TZOFFSETFROM:+0000
TZOFFSETTO:+0000
TZNAME:UTC
DTSTART:20160101T000000
END:STANDARD
END:VTIMEZONE
BEGIN:VEVENT
DTSTART;TZID=UTC:20170930T100000
DTEND;TZID=UTC:20170930T150000
DTSTAMP:20260425T102450
CREATED:20170711T141020Z
LAST-MODIFIED:20170711T141020Z
UID:6248-1506765600-1506783600@bsboffice.de
SUMMARY:RG Rhein-Neckar: Wandern in der Pfalz
DESCRIPTION:Wandern in der Pfalz: Leinsweiler – Madenburg – Ruine Neukastell – Leinsweiler (ca. 13 km) \nTreffpunkt: Leinsweiler\nKosten: Selbstzahler \nAnmeldung: rhein-neckar@bsb-office.de
URL:https://bsboffice.de/event/rg-rhein-neckar-wandern-in-der-pfalz/
CATEGORIES:Regionalgruppe Rhein-Neckar,Regionalgruppen
END:VEVENT
END:VCALENDAR