BEGIN:VCALENDAR
VERSION:2.0
PRODID:-// - ECPv6.15.19//NONSGML v1.0//EN
CALSCALE:GREGORIAN
METHOD:PUBLISH
X-ORIGINAL-URL:https://bsboffice.de
X-WR-CALDESC:Veranstaltungen für 
REFRESH-INTERVAL;VALUE=DURATION:PT1H
X-Robots-Tag:noindex
X-PUBLISHED-TTL:PT1H
BEGIN:VTIMEZONE
TZID:UTC
BEGIN:STANDARD
TZOFFSETFROM:+0000
TZOFFSETTO:+0000
TZNAME:UTC
DTSTART:20160101T000000
END:STANDARD
END:VTIMEZONE
BEGIN:VEVENT
DTSTART;TZID=UTC:20171018T180000
DTEND;TZID=UTC:20171018T200000
DTSTAMP:20260425T101943
CREATED:20170711T142322Z
LAST-MODIFIED:20170711T142322Z
UID:6263-1508349600-1508356800@bsboffice.de
SUMMARY:RG Hannover: Vereinbarkeit Beruf und Pflege
DESCRIPTION:Mit dem demografischen Wandel werden Fragen nach der Vereinbarkeit von Pflege und Beruf zunehmen. Der deutliche Anstieg Pflegebedürftiger in Familien und Lebensgemeinschaften wird von Statistikern bereits\nbis zum Jahr 2050 prognostiziert. Pflegesituationen sind oft nicht vorhersehbar und nicht planbar. Umso wichtiger ist es\, dass sich Betroffene bei Eintritt einer solchen Situation nicht scheuen\, im Arbeitsumfeld\, im Verwandten- und Bekanntenkreis\, bei kommunalen und anderen Anlaufstellen ihren Unterstützungsbedarf zu benennen. Sie erhalten heute umfassende Informationen zu diesem Thema.\nReferentinnen: Svetlana Pletenev und Dagmar Vogt-Janssen\, Kommunaler Seniorenservice\, Hannover \nAnmeldung: hannover@bsb-office.de \n 
URL:https://bsboffice.de/event/rg-hannover-vereinbarkeit-beruf-und-pflege/
LOCATION:Restaurant Da Lello\, Marienstraße 5\, Hannover\, 30171\, Deutschland
CATEGORIES:Regionalgruppe Hannover
ORGANIZER;CN="Regionalgruppe Hannover":MAILTO:hannover@bsb-office.de
END:VEVENT
BEGIN:VEVENT
DTSTART;TZID=UTC:20171018T180000
DTEND;TZID=UTC:20171018T210000
DTSTAMP:20260425T101943
CREATED:20170306T155053Z
LAST-MODIFIED:20170413T170639Z
UID:5563-1508349600-1508360400@bsboffice.de
SUMMARY:RG Saarbrücken: „Frauen und Vorsorge“
DESCRIPTION:„Frauen und Vorsorge“\nEin Vortrag mit Iris Langguth \n18:00 Uhr: Gemeinsames Abendessen\n19:00 Uhr: Beginn der Veranstaltung
URL:https://bsboffice.de/event/saarbruecken-frauen-und-vorsorge/
LOCATION:Schnabels Restaurant\, Hauptstraße 24\, Saarbrücken-Gersweiler\, 66128\, Deutschland
CATEGORIES:Regionalgruppe Saar
END:VEVENT
END:VCALENDAR