BEGIN:VCALENDAR
VERSION:2.0
PRODID:-// - ECPv6.15.19//NONSGML v1.0//EN
CALSCALE:GREGORIAN
METHOD:PUBLISH
X-ORIGINAL-URL:https://bsboffice.de
X-WR-CALDESC:Veranstaltungen für 
REFRESH-INTERVAL;VALUE=DURATION:PT1H
X-Robots-Tag:noindex
X-PUBLISHED-TTL:PT1H
BEGIN:VTIMEZONE
TZID:UTC
BEGIN:STANDARD
TZOFFSETFROM:+0000
TZOFFSETTO:+0000
TZNAME:UTC
DTSTART:20160101T000000
END:STANDARD
END:VTIMEZONE
BEGIN:VEVENT
DTSTART;TZID=UTC:20171019T080000
DTEND;TZID=UTC:20171019T170000
DTSTAMP:20260425T102003
CREATED:20170414T141602Z
LAST-MODIFIED:20170927T165141Z
UID:5823-1508400000-1508432400@bsboffice.de
SUMMARY:RG Gifhorn-Wolfsburg-Braunschweig: Besichtigung Fa. Jägermeister
DESCRIPTION:Donnerstag\, 19. Oktober 2017\, Tourbeginn: 15:00 Uhr\, – Betriebsbesichtigung Firma Jägermeister in Wolfenbüttel \nTreffpunkt: 14:45 Uhr\, Jägermeisterstraße 7-15 in 38396 Wolfenbüttel in der Eingangshalle \nFür die Betriebsbesichtigung müssen alle Teilnehmer/-innen volljährig sein. Während des Rundgangs von ca. 90 Minuten sind einige Treppen zu steigen und längere Wege zu laufen. Es gibt keine Sitzgelegenheiten und alle Teilnehmer/-innen sollten gut zu Fuß sein. Das Fotografieren\, Filmen und Erstellen von Tonaufnahmen ist im gesamten Unternehmen einschließlich des Empfangsbereichs nicht gestattet. Vor Beginn der Tour erstellt der Tour Guide ein kostenloses Gruppenfoto\, das jeder Gast am Ende der Besichtigung zur Erinnerung überreicht bekommt. \nTaschen\, Rucksäcke\, Handys\, Kameras etc. dürfen ebenso wie Speisen und Getränke nicht mitgeführt werden und können kostenlos in Schließfächern für die Dauer der Tour weggeschlossen werden. \nAm Ende des Rundgangs kann noch der Jägermeister-Shop in der Wolfenbütteler Rathauspassage besucht werden. \nFür die Betriebsbesichtigung entstehen keinerlei Kosten. (bSb-Mitglieder und Gäste kostenfrei.) \nAnmeldungen bitte bis zum 10. Oktober 2017 inkl. Vorname\, Name\, Geburtsdatum\, Nationalität – die Daten werden für die Anmeldeliste bei der Firma Jägermeister benötigt. \n 
URL:https://bsboffice.de/event/rg-gifhorn-wolfsburg-braunschweig-besichtigung-fa-jaegermeister/
LOCATION:Jägermeister\, Jägermeisterstraße 17\, Wolfenbüttel\, 38396\, Deutschland
CATEGORIES:Regionalgruppe Gifhorn
ORGANIZER;CN="bsb Regionalgruppe Gifhorn-Wolfsburg-Braunschweig":MAILTO:braunschweig@bsb-office.de
END:VEVENT
BEGIN:VEVENT
DTSTART;TZID=UTC:20171019T180000
DTEND;TZID=UTC:20171019T213000
DTSTAMP:20260425T102003
CREATED:20170301T170858Z
LAST-MODIFIED:20170301T170858Z
UID:5476-1508436000-1508448600@bsboffice.de
SUMMARY:RG Stuttgart: Zeitmanagement mit Persönlichkeit
DESCRIPTION:Referentin: Dunja Schenk
URL:https://bsboffice.de/event/rg-stuttgart-zeitmanagement-mit-persoenlichkeit/
CATEGORIES:Regionalgruppe Stuttgart
END:VEVENT
BEGIN:VEVENT
DTSTART;TZID=UTC:20171019T190000
DTEND;TZID=UTC:20171019T210000
DTSTAMP:20260425T102003
CREATED:20170526T111943Z
LAST-MODIFIED:20170526T111943Z
UID:6081-1508439600-1508446800@bsboffice.de
SUMMARY:RG Köln: Säure - Basen - Gleichgewicht
DESCRIPTION:Referent: Peter Evertz \nwww.peter-evertz.de
URL:https://bsboffice.de/event/rg-koeln-saeure-basen-gleichgewicht/
LOCATION:MARITIM Hotel Köln\, Heumarkt 20\, Köln\, 50667\, Deutschland
CATEGORIES:Regionalgruppe Köln,Regionalgruppen
END:VEVENT
BEGIN:VEVENT
DTSTART;TZID=UTC:20171019T190000
DTEND;TZID=UTC:20171019T210000
DTSTAMP:20260425T102003
CREATED:20170802T145731Z
LAST-MODIFIED:20170802T145731Z
UID:6484-1508439600-1508446800@bsboffice.de
SUMMARY:RG Berlin: Prezi im neuen Gewand - Präsentieren einmal anders
DESCRIPTION:Abendseminar: Alles Neue zu Prezi
URL:https://bsboffice.de/event/rg-berlin-prezi-im-neuen-gewand-praesentieren-einmal-anders/
LOCATION:Kiezspinne FAS e. V.\, Schulze-Boysen-Straße 38\, Berlin\, 10365
CATEGORIES:Regionalgruppe Berlin
ORGANIZER;CN="Regionalgruppe Berlin":MAILTO:berlin@bsboffice.de
END:VEVENT
END:VCALENDAR