BEGIN:VCALENDAR
VERSION:2.0
PRODID:-// - ECPv6.15.19//NONSGML v1.0//EN
CALSCALE:GREGORIAN
METHOD:PUBLISH
X-ORIGINAL-URL:https://bsboffice.de
X-WR-CALDESC:Veranstaltungen für 
REFRESH-INTERVAL;VALUE=DURATION:PT1H
X-Robots-Tag:noindex
X-PUBLISHED-TTL:PT1H
BEGIN:VTIMEZONE
TZID:UTC
BEGIN:STANDARD
TZOFFSETFROM:+0000
TZOFFSETTO:+0000
TZNAME:UTC
DTSTART:20160101T000000
END:STANDARD
END:VTIMEZONE
BEGIN:VEVENT
DTSTART;TZID=UTC:20171023T183000
DTEND;TZID=UTC:20171023T210000
DTSTAMP:20260425T101958
CREATED:20170523T135247Z
LAST-MODIFIED:20170523T135247Z
UID:6052-1508783400-1508792400@bsboffice.de
SUMMARY:RG Frankfurt: Mobbing & Zickenkrieg
DESCRIPTION:Mobbing & Zickenkrieg\nReferentin: Kirsten Rohde (Rohde Beratung & Training) \nBeginn 19:00 Uhr\, Get-together ab 18:30 Uhr \nTeilnahmegebühr: 15 € bSb-Mitglieder\, 25 € Gäste (zahlbar im Voraus) \nAnmeldung: frankfurt@bsb-office.de
URL:https://bsboffice.de/event/rg-frankfurt-mobbing-zickenkrieg/
LOCATION:Novotel Frankfurt City\, Lise-Meitner-Straße 2\, Frankfurt\, 60486\, Deutschland
CATEGORIES:Regionalgruppe Frankfurt
END:VEVENT
BEGIN:VEVENT
DTSTART;TZID=UTC:20171023T183000
DTEND;TZID=UTC:20171023T210000
DTSTAMP:20260425T101958
CREATED:20170915T154005Z
LAST-MODIFIED:20170915T154005Z
UID:6716-1508783400-1508792400@bsboffice.de
SUMMARY:RG Chemnitz: Sekretärin in PRIVATER Assistenz
DESCRIPTION:Sekretärin in PRIVATER Assistenz\nReferentin: Ute Georgi\nwww.ute-georgi.de\nPartnerin aus dem Elke-Fischer-Net(z) \nPräsentation Hotel an der Oper\nStraße der Nationen 56 09111 Chemnitz\nEmpfang 17:30 Uhr / Raum Vivaldi\nSeminar 18:30 Uhr \nAnmeldung bitte unter chemnitz@bsb-office.de
URL:https://bsboffice.de/event/rg-chemnitz-sekretaerin-in-privater-assistenz/
LOCATION:Hotel an der Oper Chemnitz\, Straße der Nationen 56\, Chemnitz\, Deutschland
CATEGORIES:Regionalgruppe Chemnitz
END:VEVENT
BEGIN:VEVENT
DTSTART;TZID=UTC:20171023T193000
DTEND;TZID=UTC:20171023T213000
DTSTAMP:20260425T101958
CREATED:20171012T085051Z
LAST-MODIFIED:20171012T085051Z
UID:6763-1508787000-1508794200@bsboffice.de
SUMMARY:RG Franken: Abendseminar „Starke Frauen“
DESCRIPTION:STARKE FRAUEN – oder doch nicht?\nWarum es mit dem Selbstwertgefühl nicht immer zum Besten steht \nFrauen sind im Aufbruch – möchte man meinen – sei es in Beruf\, Familie oder öffentlichem Leben. Dennoch werden sie von Selbstzweifeln geplagt\, hinterfragen sich\, sind mit eigenen Leistungen oft nicht zufrieden. Sie passen sich an\, gehen Konflikten mitunter aus dem Weg und sind meist anderen Leuten viel zu schnell zu Diensten. \nWie wurden wir oft durch soziale und familiäre Entwertungsmuster klein gehalten? Durch welche Phänomene ist das Selbstwertgefühl der Frau oft ausgebremst? Was können wir selbstverantwortlich tun\, um ein positives Selbstbild nachreifen zu lassen? \nDiesem und mehr gehen wir in dem Vortrag von Frau Susanne Lohrey auf den Grund. \nAnmeldung: HauckAnne@aol.com \n 
URL:https://bsboffice.de/event/rg-franken-abendseminar-starke-frauen/
LOCATION:Hotel Mercure Schweinfurt Maininsel\, Maininsel 10 - 12\, Schweinfurt\, 97424\, Deutschland
CATEGORIES:Regionalgruppe Franken
ORGANIZER;CN="Regionalgruppe Franken":MAILTO:HauckAnne@aol.com
END:VEVENT
END:VCALENDAR