BEGIN:VCALENDAR
VERSION:2.0
PRODID:-// - ECPv6.15.19//NONSGML v1.0//EN
CALSCALE:GREGORIAN
METHOD:PUBLISH
X-ORIGINAL-URL:https://bsboffice.de
X-WR-CALDESC:Veranstaltungen für 
REFRESH-INTERVAL;VALUE=DURATION:PT1H
X-Robots-Tag:noindex
X-PUBLISHED-TTL:PT1H
BEGIN:VTIMEZONE
TZID:UTC
BEGIN:STANDARD
TZOFFSETFROM:+0000
TZOFFSETTO:+0000
TZNAME:UTC
DTSTART:20160101T000000
END:STANDARD
END:VTIMEZONE
BEGIN:VEVENT
DTSTART;TZID=UTC:20171106T180000
DTEND;TZID=UTC:20171106T193000
DTSTAMP:20260425T102013
CREATED:20170825T123341Z
LAST-MODIFIED:20170825T123555Z
UID:6576-1509991200-1509996600@bsboffice.de
SUMMARY:RG Dresden: Atemreise - Seelenreise
DESCRIPTION:Wikipedia sagt: Als Atem bezeichnet man die Luftmenge\, die bei der Tätigkeit des Atmens (Luftholens oder Atemzug) bewegt wird. Unsere Referentin\, Frau Kautz will uns zeigen: Atem kann viel mehr. Er ist eigenständig und intelligent. Wenn wir es zulassen\, bewegt er unseren Körper\, übernimmt die Bewegung und führt uns zielsicher in die Harmonie\, die Leichtigkeit und vor allem in die Gedankenstille und Klarheit. Wer das erfährt\, kann Einheit und Ganzheitlichkeit erfahren. \nAtemlehrerin:   Martha Helene Kautz\nTagungsort:     Atempraxis Kautz\, Königsbrücker Straße 96\, 01099 Dresden (Zugang nur über Charlotte-Bühler-Straße 41)\nAnmeldung:     dresden@bsboffice.de\nWeitere Informationen entnehmen Sie bitte dem Flyer.\nFür Mitglieder der bSb-Regionalgruppe Dresden ist die Teilnahme kostenlos\, Gäste zahlen 15 €
URL:https://bsboffice.de/event/rg-dresden-atemreise-seelenreise/
LOCATION:Atempraxis Kautz\, Königsbrücker Straße 96\, Dresden\, 01099\, Deutschland
CATEGORIES:Regionalgruppe Dresden,Regionalgruppen
END:VEVENT
END:VCALENDAR