BEGIN:VCALENDAR
VERSION:2.0
PRODID:-// - ECPv6.15.19//NONSGML v1.0//EN
CALSCALE:GREGORIAN
METHOD:PUBLISH
X-ORIGINAL-URL:https://bsboffice.de
X-WR-CALDESC:Veranstaltungen für 
REFRESH-INTERVAL;VALUE=DURATION:PT1H
X-Robots-Tag:noindex
X-PUBLISHED-TTL:PT1H
BEGIN:VTIMEZONE
TZID:UTC
BEGIN:STANDARD
TZOFFSETFROM:+0000
TZOFFSETTO:+0000
TZNAME:UTC
DTSTART:20160101T000000
END:STANDARD
END:VTIMEZONE
BEGIN:VEVENT
DTSTART;TZID=UTC:20171115T180000
DTEND;TZID=UTC:20171115T210000
DTSTAMP:20260423T220953
CREATED:20170816T183158Z
LAST-MODIFIED:20170816T183158Z
UID:6522-1510768800-1510779600@bsboffice.de
SUMMARY:RG Bremen: Workshop: „Die besten Ideen kommen in Bewegung – Ergonomietraining für Schreibtischtäter“
DESCRIPTION:Workshop: „Die besten Ideen kommen in Bewegung – Ergonomietraining für Schreibtischtäter“\nTrainerin: Susanne Bergmann\nTraining für Bürostrukturen + Managementassistenz Prävention + Gesundheitsförderung. \nBewegtes Arbeiten fördert die Produktivität\, die Gesundheit und das Wohlbefinden\, steigert Kreativität und Konzentration.\nFreuen wir uns auf einen spannenden Abend mit anschließendem Imbiss und Netzwerken.\nORT: Hotel Radisson Blu\, Böttcherstraße 21
URL:https://bsboffice.de/event/rg-bremen-workshop-die-besten-ideen-kommen-in-bewegung-ergonomietraining-fuer-schreibtischtaeter/
LOCATION:radisson Blu Bremen\, Böttcherstraße 21\, Bremen
ORGANIZER;CN="Regionalgruppe Bremen":MAILTO:bremen@bsb-office.de
END:VEVENT
END:VCALENDAR