BEGIN:VCALENDAR
VERSION:2.0
PRODID:-// - ECPv6.15.19//NONSGML v1.0//EN
CALSCALE:GREGORIAN
METHOD:PUBLISH
X-ORIGINAL-URL:https://bsboffice.de
X-WR-CALDESC:Veranstaltungen für 
REFRESH-INTERVAL;VALUE=DURATION:PT1H
X-Robots-Tag:noindex
X-PUBLISHED-TTL:PT1H
BEGIN:VTIMEZONE
TZID:UTC
BEGIN:STANDARD
TZOFFSETFROM:+0000
TZOFFSETTO:+0000
TZNAME:UTC
DTSTART:20160101T000000
END:STANDARD
END:VTIMEZONE
BEGIN:VEVENT
DTSTART;TZID=UTC:20171129T173000
DTEND;TZID=UTC:20171129T220000
DTSTAMP:20260423T201948
CREATED:20170915T155914Z
LAST-MODIFIED:20170915T155914Z
UID:6720-1511976600-1511992800@bsboffice.de
SUMMARY:RG Chemnitz: Weihnachtsfeier
DESCRIPTION:Unsere alljährliche bSb-Weihnachtsfeier\nim Restaurant „Vogelweid“\nEmpfang aller Office.Ladys\nAb 17:30 Uhr / nur für bSb-Mitglieder
URL:https://bsboffice.de/event/rg-chemnitz-weihnachtsfeier/
LOCATION:Restaurant Vogelweid
CATEGORIES:Regionalgruppe Chemnitz
END:VEVENT
END:VCALENDAR