BEGIN:VCALENDAR
VERSION:2.0
PRODID:-// - ECPv6.15.19//NONSGML v1.0//EN
CALSCALE:GREGORIAN
METHOD:PUBLISH
X-ORIGINAL-URL:https://bsboffice.de
X-WR-CALDESC:Veranstaltungen für 
REFRESH-INTERVAL;VALUE=DURATION:PT1H
X-Robots-Tag:noindex
X-PUBLISHED-TTL:PT1H
BEGIN:VTIMEZONE
TZID:UTC
BEGIN:STANDARD
TZOFFSETFROM:+0000
TZOFFSETTO:+0000
TZNAME:UTC
DTSTART:20160101T000000
END:STANDARD
END:VTIMEZONE
BEGIN:VEVENT
DTSTART;TZID=UTC:20171130T183000
DTEND;TZID=UTC:20171130T210000
DTSTAMP:20260423T201726
CREATED:20170523T135412Z
LAST-MODIFIED:20170523T135412Z
UID:6055-1512066600-1512075600@bsboffice.de
SUMMARY:RG Frankfurt: Virtuelle Meetings
DESCRIPTION:Virtuelle Meetings\nReferent: Jens Braun-Laux (Chorus Call) \nBeginn 19:00 Uhr\, Get-together ab 18:30 Uhr \nTeilnahmegebühr: 15 € bSb-Mitglieder\, 25 € Gäste (zahlbar im Voraus) \nAnmeldung: frankfurt@bsb-office.de
URL:https://bsboffice.de/event/rg-frankfurt-virtuelle-meetings/
LOCATION:Novotel Frankfurt City\, Lise-Meitner-Straße 2\, Frankfurt\, 60486\, Deutschland
CATEGORIES:Regionalgruppe Frankfurt
END:VEVENT
BEGIN:VEVENT
DTSTART;TZID=UTC:20171130T183000
DTEND;TZID=UTC:20171130T220000
DTSTAMP:20260423T201726
CREATED:20170411T100051Z
LAST-MODIFIED:20171106T140805Z
UID:5741-1512066600-1512079200@bsboffice.de
SUMMARY:RG Ruhrgebiet: Vorweihnachtliches Netzwerktreffen
DESCRIPTION:Die Jahresausklangsfeier der RG Ruhrgebiet findet für die Mitglieder im Ambiente des MARITIM Hotel Gelsenkirchen statt.
URL:https://bsboffice.de/event/rg-ruhrgebiet-vorweihnachtliches-netzwerktreffen/
LOCATION:MARITIM Hotel Gelsenkirchen\, Am Stadtpark 1\, Gelsenkirchen
CATEGORIES:Regionalgruppe Ruhrgebiet,Regionalgruppen
END:VEVENT
END:VCALENDAR