BEGIN:VCALENDAR
VERSION:2.0
PRODID:-// - ECPv6.15.19//NONSGML v1.0//EN
CALSCALE:GREGORIAN
METHOD:PUBLISH
X-ORIGINAL-URL:https://bsboffice.de
X-WR-CALDESC:Veranstaltungen für 
REFRESH-INTERVAL;VALUE=DURATION:PT1H
X-Robots-Tag:noindex
X-PUBLISHED-TTL:PT1H
BEGIN:VTIMEZONE
TZID:UTC
BEGIN:STANDARD
TZOFFSETFROM:+0000
TZOFFSETTO:+0000
TZNAME:UTC
DTSTART:20160101T000000
END:STANDARD
END:VTIMEZONE
BEGIN:VEVENT
DTSTART;TZID=UTC:20171201T160000
DTEND;TZID=UTC:20171201T190000
DTSTAMP:20260423T202940
CREATED:20170825T125004Z
LAST-MODIFIED:20170825T125004Z
UID:6587-1512144000-1512154800@bsboffice.de
SUMMARY:RG Dresden: Jahresabschluss
DESCRIPTION:Die Schmiede Perschnick bietet einen Erlebnisnachmittag am Schmiedefeuer mit Amboss und Werkzeug an. Wir haben die Möglichkeit\, selbst zu schmieden und einen selbst gefertigten Gegenstand mit nach Hause nehmen.\nTagungsort:     Perschnik Metallbau\,  Schuchstraße 6\,  01445 Radebeul\nAnmeldung:     dresden@bsboffice.de
URL:https://bsboffice.de/event/rg-dresden-jahresabschluss/
LOCATION:Perschnik Metallbau\, Schuchstraße 6\, Radebeul\, 01445\, Deutschland
CATEGORIES:Regionalgruppe Dresden,Regionalgruppen
END:VEVENT
BEGIN:VEVENT
DTSTART;TZID=UTC:20171201T180000
DTEND;TZID=UTC:20171201T220000
DTSTAMP:20260423T202940
CREATED:20170816T183442Z
LAST-MODIFIED:20170816T183442Z
UID:6525-1512151200-1512165600@bsboffice.de
SUMMARY:RG Bremen: Weihnachtsfeier
DESCRIPTION:Weihnachtsfeier\nDieses Jahr feiern wir unsere Weihnachtsfeier in einem besonders schönen Ambiente im Dorint Parkhotel Bremen.\nWir treffen uns zu einem Sektempfang\, werden anschließend ein Drei-Gänge-Menü zu uns nehmen und einen schönen Abend mit noch einigen Überraschungen erleben.
URL:https://bsboffice.de/event/rg-bremen-weihnachtsfeier/
LOCATION:Dorint Park Hotel Bremen\, Bürgerpark\, Bremen\, 28209\, Deutschland
ORGANIZER;CN="Regionalgruppe Bremen":MAILTO:bremen@bsb-office.de
END:VEVENT
END:VCALENDAR