BEGIN:VCALENDAR
VERSION:2.0
PRODID:-// - ECPv6.15.19//NONSGML v1.0//EN
CALSCALE:GREGORIAN
METHOD:PUBLISH
X-ORIGINAL-URL:https://bsboffice.de
X-WR-CALDESC:Veranstaltungen für 
REFRESH-INTERVAL;VALUE=DURATION:PT1H
X-Robots-Tag:noindex
X-PUBLISHED-TTL:PT1H
BEGIN:VTIMEZONE
TZID:UTC
BEGIN:STANDARD
TZOFFSETFROM:+0000
TZOFFSETTO:+0000
TZNAME:UTC
DTSTART:20160101T000000
END:STANDARD
END:VTIMEZONE
BEGIN:VEVENT
DTSTART;TZID=UTC:20171216T110000
DTEND;TZID=UTC:20171216T170000
DTSTAMP:20260423T202818
CREATED:20171101T185956Z
LAST-MODIFIED:20171101T185956Z
UID:6811-1513422000-1513443600@bsboffice.de
SUMMARY:RG Franken: bSb-Netzwerktreffen
DESCRIPTION:90 Jahre Lebkuchen Schmidt und 10 Jahre bSb-Partnerschaft \nFeiern Sie mit uns diese beiden Jubiläen\, genießen Sie die Gastfreundschaft unseres Partners Lebkuchen Schmidt und kommen Sie nach Nürnberg – sicher werden Sie begeistert sein! \nEin Besuch in Nürnberg – und ganz besonders zur Weihnachtszeit – ist immer ein Erlebnis.\nSie können den Christkindlmarkt besuchen oder einfach nur durch die weihnachtlich geschmückte Stadt bummeln. \nAuch in diesem Jahr führt Herr Robert Schmidt unter dem Thema: „Vom Kloster zum Museum auf der Straße der Menschenrechte vom Mittelalter zur Moderne“ durch unbekannte Straßen und historische Plätze. \nAnmeldung: HauckAnne@aol.com \n 
URL:https://bsboffice.de/event/rg-franken-bsb-netzwerktreffen/
LOCATION:Lebkuchen Schmidt\, Zollhausstraße 30\, Nürnberg\, 90469\, Deutschland
CATEGORIES:Regionalgruppe Franken,Regionalgruppen
ORGANIZER;CN="Regionalgruppe Franken":MAILTO:HauckAnne@aol.com
END:VEVENT
END:VCALENDAR