BEGIN:VCALENDAR
VERSION:2.0
PRODID:-// - ECPv6.15.19//NONSGML v1.0//EN
CALSCALE:GREGORIAN
METHOD:PUBLISH
X-ORIGINAL-URL:https://bsboffice.de
X-WR-CALDESC:Veranstaltungen für 
REFRESH-INTERVAL;VALUE=DURATION:PT1H
X-Robots-Tag:noindex
X-PUBLISHED-TTL:PT1H
BEGIN:VTIMEZONE
TZID:UTC
BEGIN:STANDARD
TZOFFSETFROM:+0000
TZOFFSETTO:+0000
TZNAME:UTC
DTSTART:20170101T000000
END:STANDARD
END:VTIMEZONE
BEGIN:VEVENT
DTSTART;TZID=UTC:20180117T180000
DTEND;TZID=UTC:20180117T210000
DTSTAMP:20260423T185158
CREATED:20180102T142837Z
LAST-MODIFIED:20180102T142837Z
UID:7007-1516212000-1516222800@bsboffice.de
SUMMARY:RG Hannover: Jahresversammlung
DESCRIPTION:Jahresversammlung der bSb Regionalgruppe Hannover \n– nur für Mitglieder – \nHierzu erhalten Sie eine gesonderte Einladung mit Tagesordnung. \n 
URL:https://bsboffice.de/event/rg-hannover-jahresversammlung/
LOCATION:Restaurant „Da Lello“\, Restaurant „Da Lello“\, Marienstraße 5\, Hannover\, 30171\, Deutschland
CATEGORIES:Regionalgruppe Hannover,Regionalgruppen
ORGANIZER;CN="Regionalgruppe Hannover":MAILTO:hannover@bsb-office.de
END:VEVENT
END:VCALENDAR