BEGIN:VCALENDAR
VERSION:2.0
PRODID:-// - ECPv6.15.19//NONSGML v1.0//EN
CALSCALE:GREGORIAN
METHOD:PUBLISH
X-ORIGINAL-URL:https://bsboffice.de
X-WR-CALDESC:Veranstaltungen für 
REFRESH-INTERVAL;VALUE=DURATION:PT1H
X-Robots-Tag:noindex
X-PUBLISHED-TTL:PT1H
BEGIN:VTIMEZONE
TZID:UTC
BEGIN:STANDARD
TZOFFSETFROM:+0000
TZOFFSETTO:+0000
TZNAME:UTC
DTSTART:20170101T000000
END:STANDARD
END:VTIMEZONE
BEGIN:VEVENT
DTSTART;TZID=UTC:20180302T170000
DTEND;TZID=UTC:20180302T210000
DTSTAMP:20260419T162944
CREATED:20171212T155834Z
LAST-MODIFIED:20180126T115952Z
UID:6898-1520010000-1520024400@bsboffice.de
SUMMARY:RG Rhein-Neckar: Office Day 2018 - „Arbeit 4.0 – präventiv gestalten\, kompetent bewältigen“
DESCRIPTION:„Arbeit 4.0 – präventiv gestalten\, kompetent bewältigen“\nOffice Weeks mit Prof. Karlheinz Sonntag\, Arbeits- und Organisationspsychologe an der Universität Heidelberg \n17:00     Registrierung \n17:30     Eröffnung der Office Weeks 2018 \n17:45     Fachausstellung\, Imbiss\, Netzwerken \n19:00     Impulsvortrag  \n21:00     Ausklang \nAlle weiteren Informationen sowie unser Anmeldeformular finden Sie in unserem Flyer Office Day 2018 Rhein-Neckar \nUnser Referent: \nProf. Karlheinz Sonntag ist Leiter der Abteilung Arbeits- und Organisationspsychologie am Psychologischen Institut der Ruprecht-Karls-Universität Heidelberg. Die Schwerpunkte seiner Forschung liegen in der Bewältigung von Veränderungsprozessen\, der Personalentwicklung sowie im Kompetenz- und Gesundheitsmanagement. Er leitet unterschiedliche Forschungsprojekte\, unter anderem das vom BMBF geförderte Projekt MEgA (www.gesundearbeit-mega.de). \n 
URL:https://bsboffice.de/event/rg-rhein-neckar-office-day-2018/
LOCATION:Lindner Hotel & Spa Binshof\, Binshof 1\, Speyer\, 67346\, Deutschland
CATEGORIES:Regionalgruppe Rhein-Neckar,Regionalgruppen
END:VEVENT
END:VCALENDAR