BEGIN:VCALENDAR
VERSION:2.0
PRODID:-// - ECPv6.15.19//NONSGML v1.0//EN
CALSCALE:GREGORIAN
METHOD:PUBLISH
X-ORIGINAL-URL:https://bsboffice.de
X-WR-CALDESC:Veranstaltungen für 
REFRESH-INTERVAL;VALUE=DURATION:PT1H
X-Robots-Tag:noindex
X-PUBLISHED-TTL:PT1H
BEGIN:VTIMEZONE
TZID:UTC
BEGIN:STANDARD
TZOFFSETFROM:+0000
TZOFFSETTO:+0000
TZNAME:UTC
DTSTART:20170101T000000
END:STANDARD
END:VTIMEZONE
BEGIN:VEVENT
DTSTART;TZID=UTC:20180305T160000
DTEND;TZID=UTC:20180305T211500
DTSTAMP:20260419T151318
CREATED:20171202T163609Z
LAST-MODIFIED:20180131T191442Z
UID:6874-1520265600-1520284500@bsboffice.de
SUMMARY:RG Berlin: Office Day mit Silke Nevermann und Thorsten Jekel - The digital office
DESCRIPTION:Ab 16:00 Uhr sind wir für Sie da! \nModeration: Silke Nevermann\, Office Concepts\, Hamburg \n  \n  \n\n\n\n16:00 Uhr\nHerzlich willkommen bei Snacks und Getränken\n\n\n\nLernen Sie unsere Aussteller und KollegInnen aus anderen Branchen kennen\n\n\n\n\n\n\n16:45 Uhr\nBegrüßung\n\n\n\nAdrienne Manteufel/Annerose Schmidt\, bSb Regionalleitung\n\n\n\nJanina Bachmann-Graffunder\, stellv. Vorstandsvorsitzende bSb\n\n\n\nBettina Sakaoglu\, Novotel Berlin Mitte\n\n\n\n\n\n\n16:55 Uhr\nInteraktiver Vortrag:\n\n\n\nDigital Assistants – digitale Kollegin oder Konkurrentin?\n\n\n\nSilke Nevermannn\n\n\n\n\n\n\n18:30 Uhr\nImbiss mit kalten und warmen Snacks\n\n\n\nBesuch der Fachausstellung\n\n\n\nZeit zum Austausch mit Berufskolleginnen und -kollegen\n\n\n\n\n\n\n19:30 Uhr\nInteraktiver Vortrag:\n\n\n\nVom digitalen Frust zur digitalen Lust\n\n\n\nThorsten Jekel\n\n\n\n  \nCa. 21:15 Uhr Ausklang \nAlle weiteren Informationen sowie unser Anmeldeformular finden Sie in unserem Flyer. \nNutzen Sie unseren attraktiven Frühbucherrabatt bei Anmeldung bis zum 11. Februar 2018 \nUnsere Referenten: \n\n\n\n\nSilke Nevermann ist Inhaberin von Office Concepts und ausgebildete Lean Office Masterin und Digital Transformation Managerin und verfügt über mehr als 20 Jahre Berufserfahrung als Büroleitung in den Top-Führungsetagen internationaler Konzerne in Deutschland und in der Schweiz. Seit 2015 berät und unterstützt sie Unternehmen jeder Größenordnung\, mit effizienten und modernen Strukturen im Büro mehr Zeit für das eigentliche Geschäft zu gewinnen. Als Expertin für effizientes Büromanagement der Zukunft nimmt sie regelmäßig an Expertenrunden teil\, moderiert Kongresse und Veranstaltungen und gibt Trainings und Impulsvorträge zu allen Themen rund um ‚Effiziente Büroorganisation’ und ‚Arbeit der Zukunft’. \nwww.office-concepts.hamburg\n\n\n\nAls IT-Unternehmer\, Autor und Speaker ist der Betriebswirt und MBA Thorsten Jekel DER Experte für Digital Working. Aus seiner über 25-jährigen Berufserfahrung im Vertrieb\, in der Service- und IT-Projektverantwortung sowie als langjähriger Geschäftsführer im Mittelstand spricht er aus der Praxis\, für die Praxis. Seit 2010 unterstützt Thorsten Jekel Menschen und Unternehmen bei der produktiven Nutzung neuer IT-Technologien. So begleitete er beispielsweise Coca-Cola\, Trangourmet (REWE-Foodservice) und die Sparkassen-versicherung bei der erfolgreichen Einführung von bis zu 1.700 iPads im Vertrieb. Als gefragter Sparringspartner von Geschäftsführern\, Vorständen und Unternehmern zeigt er in seinen praxisnahen und visionären Vorträgen auf\, wie Sie Digital Working Technologien für sich optimal nutzen. \nwww.jekelteam.de\n\n\n\n 
URL:https://bsboffice.de/event/berlin-office-day-smart-office/
LOCATION:novotel Berlin Mitte\, Fischerinsel 12\, Berlin\, 10179\, Deutschland
CATEGORIES:Regionalgruppe Berlin
ORGANIZER;CN="Regionalgruppe Berlin":MAILTO:berlin@bsboffice.de
END:VEVENT
END:VCALENDAR