BEGIN:VCALENDAR
VERSION:2.0
PRODID:-// - ECPv6.15.19//NONSGML v1.0//EN
CALSCALE:GREGORIAN
METHOD:PUBLISH
X-ORIGINAL-URL:https://bsboffice.de
X-WR-CALDESC:Veranstaltungen für 
REFRESH-INTERVAL;VALUE=DURATION:PT1H
X-Robots-Tag:noindex
X-PUBLISHED-TTL:PT1H
BEGIN:VTIMEZONE
TZID:UTC
BEGIN:STANDARD
TZOFFSETFROM:+0000
TZOFFSETTO:+0000
TZNAME:UTC
DTSTART:20170101T000000
END:STANDARD
END:VTIMEZONE
BEGIN:VEVENT
DTSTART;TZID=UTC:20180312T190000
DTEND;TZID=UTC:20180312T203000
DTSTAMP:20260419T151211
CREATED:20171212T160030Z
LAST-MODIFIED:20180126T120410Z
UID:6901-1520881200-1520886600@bsboffice.de
SUMMARY:RG Rhein-Neckar: Effizienz-Rezepte - Arbeit automatisieren
DESCRIPTION:Effizienz-Rezepte – Arbeit automatisieren\nReferentin: Claudia von Wilmsdorff\, Fachtautorin und Trainerin \nProgramm: überwiegend Word\, eine Prise Outlook. Feldarbeit: immer das richtige Datum im Dokument\, Schnellbausteine im Büroalltag (nicht nur Text\, sondern auch Tabellen\, Kopf-und Fußzeilen\, Deckblättern etc.)\, ein erstes Makro erstellen. \nWir treffen uns um 17:30 im Restaurant des Hotels zum Netzwerken beim gemeinsamen Abendessen (Selbstzahler). \nKosten: für Mitglieder kostenfrei\, Interessentinnen zahlen 25\,– Euro \nAnmeldungen unter rhein-neckar@bsb-office.de \n  \n 
URL:https://bsboffice.de/event/rg-rhein-neckar-effizienz-rezepte-arbeit-automatisieren/
LOCATION:Maritim Hotel Mannheim\, Friedrichsplatz 2\, Mannheim\, Baden-Württemberg\, 68165\, Deutschland
CATEGORIES:Regionalgruppe Rhein-Neckar,Regionalgruppen
END:VEVENT
END:VCALENDAR