BEGIN:VCALENDAR
VERSION:2.0
PRODID:-// - ECPv6.15.19//NONSGML v1.0//EN
CALSCALE:GREGORIAN
METHOD:PUBLISH
X-ORIGINAL-URL:https://bsboffice.de
X-WR-CALDESC:Veranstaltungen für 
REFRESH-INTERVAL;VALUE=DURATION:PT1H
X-Robots-Tag:noindex
X-PUBLISHED-TTL:PT1H
BEGIN:VTIMEZONE
TZID:UTC
BEGIN:STANDARD
TZOFFSETFROM:+0000
TZOFFSETTO:+0000
TZNAME:UTC
DTSTART:20170101T000000
END:STANDARD
END:VTIMEZONE
BEGIN:VEVENT
DTSTART;TZID=UTC:20180324T100000
DTEND;TZID=UTC:20180324T130000
DTSTAMP:20260421T084315
CREATED:20180115T095125Z
LAST-MODIFIED:20180115T095125Z
UID:7151-1521885600-1521896400@bsboffice.de
SUMMARY:RG Stuttgart: Raus aus dem Winterschlaf - Mentales Coaching
DESCRIPTION:Mentales Coaching mit Abschlussmeditation in der Solino Salzgrotte \nReferent: Ralf Tiemann \nEs wird eine zusätzliche Teilnahmegebühr erhoben
URL:https://bsboffice.de/event/rg-stuttgart-raus-aus-dem-winterschlaf-mentales-coaching/
LOCATION:Solino Salzgrotte\, Weberstraße 20\, Nürtingen\, 72622
CATEGORIES:Regionalgruppe Stuttgart,Regionalgruppen
END:VEVENT
END:VCALENDAR