BEGIN:VCALENDAR
VERSION:2.0
PRODID:-// - ECPv6.15.19//NONSGML v1.0//EN
CALSCALE:GREGORIAN
METHOD:PUBLISH
X-ORIGINAL-URL:https://bsboffice.de
X-WR-CALDESC:Veranstaltungen für 
REFRESH-INTERVAL;VALUE=DURATION:PT1H
X-Robots-Tag:noindex
X-PUBLISHED-TTL:PT1H
BEGIN:VTIMEZONE
TZID:UTC
BEGIN:STANDARD
TZOFFSETFROM:+0000
TZOFFSETTO:+0000
TZNAME:UTC
DTSTART:20170101T000000
END:STANDARD
END:VTIMEZONE
BEGIN:VEVENT
DTSTART;TZID=UTC:20180409T180000
DTEND;TZID=UTC:20180409T203000
DTSTAMP:20260419T144745
CREATED:20180109T134955Z
LAST-MODIFIED:20180109T135039Z
UID:7093-1523296800-1523305800@bsboffice.de
SUMMARY:RG Dresden: Wie die Produkte der Bombastus AG uns bei der Gesunderhaltung helfen können
DESCRIPTION:Referent: Siegfried Anke\, Bombastus Werke AG \nAnmeldungen bis zum 02.04.2018 an dresden@bsb-office.de
URL:https://bsboffice.de/event/rg-dresden-wie-die-produkte-der-bombastus-ag-uns-bei-der-gesunderhaltung-helfen-koennen/
LOCATION:Leonardo Hotel Dresden Altstadt\, Leonardo Hotel Dresden Altstadt\, Magdeburger Straße 1a\, Dresden\, 01067\, Deutschland
CATEGORIES:Regionalgruppe Dresden,Regionalgruppen
END:VEVENT
BEGIN:VEVENT
DTSTART;TZID=UTC:20180409T193000
DTEND;TZID=UTC:20180409T210000
DTSTAMP:20260419T144745
CREATED:20180116T150935Z
LAST-MODIFIED:20180116T150935Z
UID:7183-1523302200-1523307600@bsboffice.de
SUMMARY:RG Franken: Abendseminar "Datenschutz"
DESCRIPTION:Abendseminar „Datenschutz“ \nDie europäische Datenschutzgrundverordnung ersetzt ab dem 25. Mai 2018 alle bisher geltenden Datenschutzrechte und ist EU-weit geltend. \nHerr Jürgen Weiss von der Firma HSM\, unserm  bSb-Partner\, wird uns ausführlich hierüber informieren\, da diese Gesetzesänderungen für uns alle (geschäftlich wie privat) sehr wichtig sind. \n  \nAnmeldung: HauckAnne@aol.com
URL:https://bsboffice.de/event/rg-franken-abendseminar-datenschutz/
LOCATION:Hotel & Weinstube am Markt\, Marktplatz 5 - 7\, Gerolzhofen\, 97447 \, Deutschland
CATEGORIES:Regionalgruppe Franken,Regionalgruppen
ORGANIZER;CN="Regionalgruppe Franken":MAILTO:HauckAnne@aol.com
END:VEVENT
END:VCALENDAR