BEGIN:VCALENDAR
VERSION:2.0
PRODID:-// - ECPv6.15.19//NONSGML v1.0//EN
CALSCALE:GREGORIAN
METHOD:PUBLISH
X-ORIGINAL-URL:https://bsboffice.de
X-WR-CALDESC:Veranstaltungen für 
REFRESH-INTERVAL;VALUE=DURATION:PT1H
X-Robots-Tag:noindex
X-PUBLISHED-TTL:PT1H
BEGIN:VTIMEZONE
TZID:UTC
BEGIN:STANDARD
TZOFFSETFROM:+0000
TZOFFSETTO:+0000
TZNAME:UTC
DTSTART:20170101T000000
END:STANDARD
END:VTIMEZONE
BEGIN:VEVENT
DTSTART;TZID=UTC:20180412T080000
DTEND;TZID=UTC:20180412T170000
DTSTAMP:20260419T130822
CREATED:20180115T095350Z
LAST-MODIFIED:20180115T095350Z
UID:7154-1523520000-1523552400@bsboffice.de
SUMMARY:RG Stuttgart: Bewerbung und Selbstmarketing
DESCRIPTION:Referent:  Dr. Jan Koblischke \n 
URL:https://bsboffice.de/event/rg-stuttgart-bewerbung-und-selbstmarketing/
LOCATION:Fichtner GmbH & Co. KG\, Sarweystraße 3\, Stuttgart\, 70191
CATEGORIES:Regionalgruppe Stuttgart,Regionalgruppen
END:VEVENT
BEGIN:VEVENT
DTSTART;TZID=UTC:20180412T173000
DTEND;TZID=UTC:20180412T190000
DTSTAMP:20260419T130822
CREATED:20180130T180853Z
LAST-MODIFIED:20180407T182232Z
UID:7403-1523554200-1523559600@bsboffice.de
SUMMARY:RG Hamburg: Datenschutzgrundverordnung (DSGVO) Betriebsbesichtigung und Vortrag Reisswolf International AG
DESCRIPTION:Betriebsrundgang & Vortrag \nNutzen Sie die Chance für einen exklusiven Blick hinter die Kulissen und erfahren Sie mehr über die Kernkompetenz und Dienstleistung von REISSWOLF. Wie wird der Prozess der datenschutzkonformen Vernichtung der Akten und Datenträger umgesetzt und was passiert mit den Verschlusscontainern – die wir alle aus unserem Büroalltag kennen – vor Ort. „Eisberg – voraus!“ Als dieser Ausruf von der Brücke der „Titanic“ ertönte\, war es bereits zu spät. Der weitere Verlauf ist bekannt. Wenn man diese Metapher auf die Datenschutzgrundverordnung (DS-GVO) überträgt\, besteht zwar keine Ausweichmöglichkeit\, die Unternehmen haben aber gerade noch Zeit\, ihren Rumpf ausreichend zu schützen\, um mit voller Fahrt weiterfahren zu können. Das neue Datenschutzrecht wird am 25. Mai 2018 mit der DS-GVO und dem Datenschutz-Anpassungs- und Umsetzungsgesetz EU (DSAnpUG-EU) für alle Unternehmen verbindlich. Die neuen Regeln sind weitreichend\, kompliziert und haben im Falle eines Verstoßes verheerende Konsequenzen. \nAgenda \nDonnerstag\, 12. April 2018 \n17:30 Uhr Begrüßung & Betriebsrundgang \nDie Datenschutzgrundverordnung kommt! Wie setzt REISSWOLF die Datenschutzgrundverordnung um? \nCa. 19:00 Uhr Ende der Veranstaltung \nReferenten: Cordula Haak\, Leitung Key Account Management\, REISSWOLF International AG \nThomas Kehde\, Leitung Kooperationen / Multiplikatoren REISSWOLF International AG \nREISSWOLF\, vor über 30 Jahren in Hamburg gegründet\, beschäftigt sich mit dem professionellen Umgang mit Daten jeder Art und setzt verlässliche Standards und DIN-Normen. So wurde REISSWOLF europaweiter Marktführer in der Aktenund Datenvernichtung\, eines der Top-Archivierungsunternehmen und digitalisiert inzwischen jährlich über 60 Millionen Dokumente aller Art. Mit seinem 360° Leistungsportfolio rund um ein sicheres Datenmanagement verbindet REISSWOLF Analoges und Digitales zukunftsfähig und intelligent miteinander\, um seinen Kunden das Leben und Arbeiten mit Daten so einfach wie möglich zu machen. \nHier ein Auszug der wichtigsten Änderungen im Überblick: \n\nVerschärfte Rechenschafts- und Dokumentationspflicht\nErweiterung der Betroffenenrechte im Hinblick auf Einwilligung\, Benachrichtigung\, Auskunft\, Sperrung und Löschung\nVerschärfte Meldepflicht bei Datenpannen\nHard- und Software müssen so eingestellt sein\, dass sie möglichst nur die Daten erfassen können\, die zur Erfüllung des Zwecks erforderlich sind (Prinzip Datenminimierung).\nDrastische Erhöhung der Bußgelder\nErhöhte Verantwortung der Datenschutzbeauftragen\nVerschärfte Anforderungen bei Datentransfer in Drittstaaten. Dies ist bereits bei der Verwendung von „Clouds“ außerhalb der EU der Fall\n\nVeranstaltungsort: \nREISSWOLF Akten- und Datenvernichtung GmbH & Co. KG \nWendenstraße 403 \n20537 Hamburg \nVeranstalter: \nBundesverband Sekretariat und Büromanagement e. V. (bSb); Regionalgruppe Hamburg \nVeranstaltungsleitung: Christina Brenning / Leiterin Regionalgruppe Hamburg \nMobil: 0160 96 83 77 26 \nhamburg@bsb-office.de \nwww.bsb-office.de \nAnmeldung: Wir bitten um eine verbindliche Anmeldung per E-Mail an hamburg@bsb-office.de bis zum 5. April 2018. Ihre Anmeldungen werden wir gern per E-Mail bestätigen. \nTeilnahmegebühr: \nbSb-Mitglieder Regionalgruppe Hamburg: kostenfrei \nbSb-Mitglieder (nicht RG Hamburg): EUR 15\,00 \nGäste: EUR 20\,00 \nBitte überweisen Sie die Teilnahmegebühr unter Angabe Ihres Namens und des Verwendungszwecks „VA 12.04.2018“ bis spätestens zum 5. April 2018 auf das Konto der bSb Regionalgruppe Hamburg. \nFragen & Anregungen \nHaben Sie Wunschthemen oder Anregungen zu unseren Veranstaltungen? Wir freuen uns über Ihre Ideen und Ihr Feedback unter hamburg@bsb-office.de
URL:https://bsboffice.de/event/rg-hamburg-datenschutzgrundverordnung-dsgvo/
LOCATION:REISSWOLF Akten- und Datenvernichtung GmbH & Co. KG\, Wendenstraße 403\, Hamburg
CATEGORIES:Regionalgruppe Hamburg
ORGANIZER;CN="bSb Regionalgruppe Hamburg":MAILTO:hamburg@bsb-office.de
END:VEVENT
END:VCALENDAR