BEGIN:VCALENDAR
VERSION:2.0
PRODID:-// - ECPv6.15.19//NONSGML v1.0//EN
CALSCALE:GREGORIAN
METHOD:PUBLISH
X-ORIGINAL-URL:https://bsboffice.de
X-WR-CALDESC:Veranstaltungen für 
REFRESH-INTERVAL;VALUE=DURATION:PT1H
X-Robots-Tag:noindex
X-PUBLISHED-TTL:PT1H
BEGIN:VTIMEZONE
TZID:UTC
BEGIN:STANDARD
TZOFFSETFROM:+0000
TZOFFSETTO:+0000
TZNAME:UTC
DTSTART:20170101T000000
END:STANDARD
END:VTIMEZONE
BEGIN:VEVENT
DTSTART;TZID=UTC:20180416T090000
DTEND;TZID=UTC:20180417T170000
DTSTAMP:20260421T181004
CREATED:20180407T091335Z
LAST-MODIFIED:20180407T091335Z
UID:7641-1523869200-1523984400@bsboffice.de
SUMMARY:Nürnberg: Psychologie für die Top-Assistenz - ime Seminare
DESCRIPTION:  \nAls erfahrene Top-Assistenz begegnen Sie jeden Tag unterschiedlichen Menschen\, Interessen und Erwartungshaltungen. Sie bewegen sich im Spannungsfeld zwischen Führungskraft und Mitarbeitern. Ihre Herausforderung ist es\, souverän zu bleiben und sich auf Ihre Kernaufgaben zu konzentrieren. In diesem Seminar machen sie sich mit psychologischem Wissen vertraut. Lernen Sie\, Ihr Verhalten auf unterschiedliche Menschen und Situationen abzustimmen und Spannungen und Konflikte zu lösen. \nAlle Informationen zum Seminar unter: \nhttps://www.ime-seminare.de/seminare/psychologie-fuer-die-top-assistenz
URL:https://bsboffice.de/event/nuernberg-psychologie-fuer-die-top-assistenz-ime-seminare-3/
LOCATION:Nürnberg\, Park Inn Nürnberg\, Nürnberg\, Park Inn Nürnberg\, Nürnberg\, Deutschland
ORGANIZER;CN="IME Institut f%C3%BCr Management-Entwicklung der GWP Gesellschaft mbH f%C3%BCr Weiterbildung und Personalmanagement":MAILTO:info@ime-seminare.de
END:VEVENT
BEGIN:VEVENT
DTSTART;TZID=UTC:20180417T180000
DTEND;TZID=UTC:20180417T210000
DTSTAMP:20260421T181004
CREATED:20180126T121907Z
LAST-MODIFIED:20180404T091532Z
UID:7366-1523988000-1523998800@bsboffice.de
SUMMARY:RG Saarbrücken: Einführung in die Datenschutzgrundverordnung
DESCRIPTION:Einführung in die Datenschutzgrundverordnung \n18:00 Uhr Gemeinsamer Imbiss \n19:00 Uhr Beginn der Veranstaltung \nAnmeldung: saar@bsb-office.de \nFlyer-DSGVO-Vortrag-17042018
URL:https://bsboffice.de/event/rg-saarbruecken-das-digitale-ich-chancen-der-assistenz-beim-digitalen-wandel/
LOCATION:Bürgerzentrum Mühlenviertel\, Deutschland
CATEGORIES:Regionalgruppe Saar,Regionalgruppen
END:VEVENT
END:VCALENDAR