BEGIN:VCALENDAR
VERSION:2.0
PRODID:-// - ECPv6.15.19//NONSGML v1.0//EN
CALSCALE:GREGORIAN
METHOD:PUBLISH
X-ORIGINAL-URL:https://bsboffice.de
X-WR-CALDESC:Veranstaltungen für 
REFRESH-INTERVAL;VALUE=DURATION:PT1H
X-Robots-Tag:noindex
X-PUBLISHED-TTL:PT1H
BEGIN:VTIMEZONE
TZID:UTC
BEGIN:STANDARD
TZOFFSETFROM:+0000
TZOFFSETTO:+0000
TZNAME:UTC
DTSTART:20170101T000000
END:STANDARD
END:VTIMEZONE
BEGIN:VEVENT
DTSTART;TZID=UTC:20180419T090000
DTEND;TZID=UTC:20180420T170000
DTSTAMP:20260419T130557
CREATED:20180407T091103Z
LAST-MODIFIED:20180407T091103Z
UID:7638-1524128400-1524243600@bsboffice.de
SUMMARY:Aachen: Kommunikationstraining für die Assistenz - ime Seminare
DESCRIPTION:  \nZwischen Chef\, Kollegen und Kunden wirkungsvoll kommunizieren. \nEine ergebnisorientierte Kommunikation sind die Basis für eine erfolgreiche Sekretariatsarbeit und Teamassistenz. Sie lernen in diesem Assistenzseminar das eigene Kommunikationsverhalten besser kennen. Sie trainieren rhetorische Instrumente zielgerichtet einzusetzen und auch in schwierigen Kommunikationssituationen zu überzeugen. Damit Sie im Beruf wirkungsvoll argumentieren sowie freundlich\, überzeugend und souverän auftreten. \nAlle Informationen zum Seminar unter: \nhttps://www.ime-seminare.de/seminare/kommunikationstraining-fuer-die-assistenz
URL:https://bsboffice.de/event/aachen-kommunikationstraining-fuer-die-assistenz-ime-seminare/
LOCATION:Aachen\, Aachen\, Mercure Aachen\, Europaplatz\, Aachen\, Deutschland
ORGANIZER;CN="IME Institut f%C3%BCr Management-Entwicklung der GWP Gesellschaft mbH f%C3%BCr Weiterbildung und Personalmanagement":MAILTO:info@ime-seminare.de
END:VEVENT
BEGIN:VEVENT
DTSTART;TZID=UTC:20180419T090000
DTEND;TZID=UTC:20180420T170000
DTSTAMP:20260419T130557
CREATED:20180407T091845Z
LAST-MODIFIED:20180407T091845Z
UID:7648-1524128400-1524243600@bsboffice.de
SUMMARY:München: Geschäftskorrespondenz - modern und professionell - ime Seminare
DESCRIPTION:  \nBriefe\, E-Mails und Protokolle passend formulieren. \nSchriftliche Kommunikation ist ein unverzichtbarer Teil Ihres Arbeitsalltags. Diese Aufgabe nimmt nicht nur viel Zeit in Anspruch\, sondern ist eine Kommunikationsform\, mit der Sie das Unternehmen nach außen repräsentieren. Lernen Sie Wesentliches auf den Punkt zu bringen und bestimmt aber freundlich zu zu kommunizieren. Sie erfahren\, wie Sie Briefe kundenorientiert aufbauen sowie modern und rhetorisch versiert formulieren. \nAlle Informationen zum Seminar unter: \nhttps://www.ime-seminare.de/seminare/geschaeftskorrespondenz-modern-und-professionell
URL:https://bsboffice.de/event/muenchen-geschaeftskorrespondenz-modern-und-professionell-ime-seminare/
LOCATION:München\, Mercure Hotel ORBIS München Süd\, München\, Mercure Hotel ORBIS München Süd\, München\, Deutschland
ORGANIZER;CN="IME Institut f%C3%BCr Management-Entwicklung der GWP Gesellschaft mbH f%C3%BCr Weiterbildung und Personalmanagement":MAILTO:info@ime-seminare.de
END:VEVENT
END:VCALENDAR