BEGIN:VCALENDAR
VERSION:2.0
PRODID:-// - ECPv6.15.19//NONSGML v1.0//EN
CALSCALE:GREGORIAN
METHOD:PUBLISH
X-ORIGINAL-URL:https://bsboffice.de
X-WR-CALDESC:Veranstaltungen für 
REFRESH-INTERVAL;VALUE=DURATION:PT1H
X-Robots-Tag:noindex
X-PUBLISHED-TTL:PT1H
BEGIN:VTIMEZONE
TZID:UTC
BEGIN:STANDARD
TZOFFSETFROM:+0000
TZOFFSETTO:+0000
TZNAME:UTC
DTSTART:20170101T000000
END:STANDARD
END:VTIMEZONE
BEGIN:VEVENT
DTSTART;TZID=UTC:20180425T090000
DTEND;TZID=UTC:20180425T170000
DTSTAMP:20260423T140738
CREATED:20180406T144408Z
LAST-MODIFIED:20180406T144707Z
UID:7623-1524646800-1524675600@bsboffice.de
SUMMARY:Bad Oeynhausen - Assistent/innen-Tag – Fachkongress der Assistenzen
DESCRIPTION:  \nAssistent/innen-Tag – Fachkongress der Assistenzen\nGanztägiger Kongress mit Vorträgen und Workshops für Assistentinnen und Assistenten aller Branchen. \n  \n \n  \nAm Mittwoch\, den 25.04.2018 findet im Schloss Ovelgönne in Bad Oeynhausen von 9 bis 17 Uhr erste Fachkongress der Assistenzen statt.\nProfitieren Sie vom Fachwissen und der Erfahrung ausgesuchter Referenten und machen Sie sich fit für das moderne Business. \n  \nDas Schloss Ovelgönne in Bad Oeynhausen liegt 3\,4 km vom Stadtzentrum entfernt. Das historische Gebäude wurde umfangreich.\nKostenfreie Parkplätze gibt es direkt am Haus\, Hotels sind nur wenige Minuten entfernt. In den Pausen lädt der kleine Park zum Entspannen ein. \n  \nSeminarpreis:  350 – 390 € pro Person (Preise zzgl. MwSt.) inkl. Verpflegung \n  \nInfos und Anmeldung: Hier Klicken \n  \n 
URL:https://bsboffice.de/event/bad-oeynhausen-assistent-innen-tag-fachkongress-der-assistenzen/
END:VEVENT
END:VCALENDAR