BEGIN:VCALENDAR
VERSION:2.0
PRODID:-// - ECPv6.15.19//NONSGML v1.0//EN
CALSCALE:GREGORIAN
METHOD:PUBLISH
X-ORIGINAL-URL:https://bsboffice.de
X-WR-CALDESC:Veranstaltungen für 
REFRESH-INTERVAL;VALUE=DURATION:PT1H
X-Robots-Tag:noindex
X-PUBLISHED-TTL:PT1H
BEGIN:VTIMEZONE
TZID:UTC
BEGIN:STANDARD
TZOFFSETFROM:+0000
TZOFFSETTO:+0000
TZNAME:UTC
DTSTART:20170101T000000
END:STANDARD
END:VTIMEZONE
BEGIN:VEVENT
DTSTART;TZID=UTC:20180530T180000
DTEND;TZID=UTC:20180530T210000
DTSTAMP:20260419T130623
CREATED:20180509T053338Z
LAST-MODIFIED:20180509T055847Z
UID:7799-1527703200-1527714000@bsboffice.de
SUMMARY:RG Bremen: New Work und Digitalisierung im Unternehmen
DESCRIPTION:Vortragsveranstaltung \n„New Work und Digitalisierung im Unternehmen“\nEntgrenzte Arbeit und Gesundheit mit Kirstin Fossgreen\, Cuxhaven \nPolitische Wissenschaft\, Soziologie\, Sozialpsychologie/Gesundheitsförderung \nOrt: Villa Ichon\, Goetheplatz 4 \nAnmeldung: bremen@bsb-office.de
URL:https://bsboffice.de/event/rg-bremen-new-work-und-digitalisierung-im-unternehmen/
LOCATION:Villa Ichon\, Goetheplatz 4\, Bremen
CATEGORIES:Regionalgruppe Bremen
ORGANIZER;CN="Regionalgruppe Bremen":MAILTO:bremen@bsb-office.de
END:VEVENT
END:VCALENDAR