BEGIN:VCALENDAR
VERSION:2.0
PRODID:-// - ECPv6.15.19//NONSGML v1.0//EN
CALSCALE:GREGORIAN
METHOD:PUBLISH
X-ORIGINAL-URL:https://bsboffice.de
X-WR-CALDESC:Veranstaltungen für 
REFRESH-INTERVAL;VALUE=DURATION:PT1H
X-Robots-Tag:noindex
X-PUBLISHED-TTL:PT1H
BEGIN:VTIMEZONE
TZID:UTC
BEGIN:STANDARD
TZOFFSETFROM:+0000
TZOFFSETTO:+0000
TZNAME:UTC
DTSTART:20170101T000000
END:STANDARD
END:VTIMEZONE
BEGIN:VEVENT
DTSTART;TZID=UTC:20180611T090000
DTEND;TZID=UTC:20180612T170000
DTSTAMP:20260421T113558
CREATED:20180408T073834Z
LAST-MODIFIED:20180408T073834Z
UID:7661-1528707600-1528822800@bsboffice.de
SUMMARY:Hamburg: Qualifizierte Chefentlastung - eine anspruchsvolle Assistenzaufgabe - ime Seminare
DESCRIPTION:  \nVon Ihnen wird vorausschauendes Denken und optimale Vorgesetzenentlastung erwartet. In diesem Seminar analysieren Sie Ihre Arbeitsweise und den Arbeits- und Führungsstil Ihres Chefs bzw. Ihrer Chefin. Sie lernen\, wie Sie qualifizierte Zuarbeit leisten und selbst Entscheidungskompetenz gewinnen. Sie erweitern Ihr Grundwissen über Führungsmodelle\, Managementaufgaben und Organisationsstrukturen. Nutzen Sie die Chancen Ihrer Position als „Schaltstelle“ zwischen Mitarbeitern und Vorgesetzten. \n  \nAlle Informationen zum Seminar unter: \nhttps://www.ime-seminare.de/seminare/qualifizierte-chefentlastung
URL:https://bsboffice.de/event/hamburg-qualifizierte-chefentlastung-eine-anspruchsvolle-assistenzaufgabe-ime-seminare/
LOCATION:Hamburg\, H4 Hotel Hamburg Bergedorf\, H4 Hotel Hamburg Bergedorf\, Hamburg\, Deutschland
ORGANIZER;CN="IME Institut f%C3%BCr Management-Entwicklung der GWP Gesellschaft mbH f%C3%BCr Weiterbildung und Personalmanagement":MAILTO:info@ime-seminare.de
END:VEVENT
BEGIN:VEVENT
DTSTART;TZID=UTC:20180612T180000
DTEND;TZID=UTC:20180612T210000
DTSTAMP:20260421T113558
CREATED:20180115T101232Z
LAST-MODIFIED:20180524T081723Z
UID:7174-1528826400-1528837200@bsboffice.de
SUMMARY:RG Ruhrgebiet: Resilienz - im Chaos einen kühlen Kopf bewahren
DESCRIPTION:Katja Michalek wird Ihnen in ihrem Vortrag erläutern\, was unter Resilienz zu verstehen ist\, wie Sie sie nutzen können und wie sie Ihre jetzige Lebenssituation beeinflussen kann. Die Referentin wird Ihnen aufzeigen\, wie Sie sich von den Wellen des Lebens nicht mitreißen lassen\, sondern lernen\, auf ihnen zu reiten. \n\n\n\nReferentin:\n\nKatja Michalek\n\n\n \n\nTrainerin\, Coach\, Speakerin\n Inhaberin der Firma Punktlandung\n Moderatorin des Podcasts „Die Berufsoptimierer“\n www.punktlandung.training\n\n\n\n  \nAb 17:30 Uhr treffen sich Mitglieder und Gäste im Foyer des Hotels zum gemeinsamen Imbiss (Selbstzahler) \nGästebeitrag: 15 Euro \nAnmeldungen bitte bis zum 1. Juni 2018 an ruhrgebiet@bsb-office.de oder per Telefax an 02591 7949749
URL:https://bsboffice.de/event/rg-ruhrgebiet-resilienz-im-chaos-einen-kuehlen-kopf-bewahren/
LOCATION:IntercityHotel Essen\, Hachestraße 10\, Essen\, 45127\, Deutschland
CATEGORIES:Regionalgruppe Ruhrgebiet,Regionalgruppen
END:VEVENT
BEGIN:VEVENT
DTSTART;TZID=UTC:20180612T180000
DTEND;TZID=UTC:20180612T210000
DTSTAMP:20260421T113558
CREATED:20180126T122840Z
LAST-MODIFIED:20180126T122840Z
UID:7373-1528826400-1528837200@bsboffice.de
SUMMARY:RG Saarbrücken: Mobil und sicher - Sicherheitsberatung für Smartphones und Tablets
DESCRIPTION:Mobil und sicher – Sicherheitsberatung für Smartphones und Tablets \nein Vortrag von Wolf-Dieter Scheid \nAnmeldung: saar@bsb-office.de \n 
URL:https://bsboffice.de/event/rg-saarbruecken-mobil-und-sicher-sicherheitsberatung-fuer-smartphones-und-tablets/
LOCATION:Landesmedienanstalt\, Nell-Breuning-Allee 6\, Saarbrücken\, 66115\, Deutschland
CATEGORIES:Regionalgruppe Saar,Regionalgruppen
END:VEVENT
END:VCALENDAR