BEGIN:VCALENDAR
VERSION:2.0
PRODID:-// - ECPv6.15.19//NONSGML v1.0//EN
CALSCALE:GREGORIAN
METHOD:PUBLISH
X-ORIGINAL-URL:https://bsboffice.de
X-WR-CALDESC:Veranstaltungen für 
REFRESH-INTERVAL;VALUE=DURATION:PT1H
X-Robots-Tag:noindex
X-PUBLISHED-TTL:PT1H
BEGIN:VTIMEZONE
TZID:UTC
BEGIN:STANDARD
TZOFFSETFROM:+0000
TZOFFSETTO:+0000
TZNAME:UTC
DTSTART:20170101T000000
END:STANDARD
END:VTIMEZONE
BEGIN:VEVENT
DTSTART;TZID=UTC:20180620T160000
DTEND;TZID=UTC:20180620T200000
DTSTAMP:20260419T144730
CREATED:20180102T144018Z
LAST-MODIFIED:20180102T144018Z
UID:7018-1529510400-1529524800@bsboffice.de
SUMMARY:RG Hannover: Besichtigung Museumsbunker Hannover
DESCRIPTION:Museumsbunker Hannover\nIm zweiten Weltkrieg schützte der Luftschutzbunker in der Torstenssonstraße die Zivilbevölkerung vor den Luftangriffen der alliierten Verbände. 20 Jahre später wurde das Luftschutzbauwerk erneut für den Bevölkerungsschutz herangezogen. Mit komplexen technischen Einrichtungen sollte ein Schutz vor den atomaren\, chemischen und biologischen Waffen des Kalten Krieges erzielt werden. Im aufwändigsten Schutzbauprogramm des Bundes\, dem Instandsetzungsprogramm\, wurde das Schutzbauwerk in den Jahren 1965 bis 1968 als Zivilschutzanlage für den “Tag X” vorbereitet. \nOrt: Torstenssonstraße\, 30459 Hannover \nAnmeldung: hannover@bsb-office.de
URL:https://bsboffice.de/event/rg-hannover-besichtigung-museumsbunker-hannover/
CATEGORIES:Regionalgruppe Hannover,Regionalgruppen
ORGANIZER;CN="Regionalgruppe Hannover":MAILTO:hannover@bsb-office.de
END:VEVENT
END:VCALENDAR