BEGIN:VCALENDAR
VERSION:2.0
PRODID:-// - ECPv6.15.19//NONSGML v1.0//EN
CALSCALE:GREGORIAN
METHOD:PUBLISH
X-ORIGINAL-URL:https://bsboffice.de
X-WR-CALDESC:Veranstaltungen für 
REFRESH-INTERVAL;VALUE=DURATION:PT1H
X-Robots-Tag:noindex
X-PUBLISHED-TTL:PT1H
BEGIN:VTIMEZONE
TZID:UTC
BEGIN:STANDARD
TZOFFSETFROM:+0000
TZOFFSETTO:+0000
TZNAME:UTC
DTSTART:20170101T000000
END:STANDARD
END:VTIMEZONE
BEGIN:VEVENT
DTSTART;VALUE=DATE:20180621
DTEND;VALUE=DATE:20180622
DTSTAMP:20260419T130817
CREATED:20180522T142646Z
LAST-MODIFIED:20180522T143019Z
UID:7864-1529539200-1529625599@bsboffice.de
SUMMARY:München: career@office – Messe mit Kongress für Office-Profis
DESCRIPTION:München: \ncareer@office – Messe mit Kongress für Office-Profis. \nwww.careeratoffice.de \n 
URL:https://bsboffice.de/event/muenchen-careeroffice-messe-mit-kongress-fuer-office-profis-2/
LOCATION:MTC München\, Ingolstädterstr. 45+47\, München\, 80807\, Deutschland
END:VEVENT
BEGIN:VEVENT
DTSTART;TZID=UTC:20180621T180000
DTEND;TZID=UTC:20180621T210000
DTSTAMP:20260419T130817
CREATED:20180509T053650Z
LAST-MODIFIED:20180509T060028Z
UID:7803-1529604000-1529614800@bsboffice.de
SUMMARY:RG Bremen: Interkulturelle Öffnung und Kommunikation in Unternehmen und Organisationen
DESCRIPTION:Vortragsveranstaltung \n„Interkulturelle Öffnung und Kommunikation in Unternehmen und Organisationen“\nmit Thomas Müller\, Integrationscoach\, Dipl.-Verwaltungswirt\, Kriminologe M. A. \nOrt: Innside Melia Hotel Bremen\, Sternentor 6 \nAnmeldung: bremen@bsb-office.de
URL:https://bsboffice.de/event/rg-bremen-interkulturelle-oeffnung-und-kommunikation-in-unternehmen-und-organisationen/
LOCATION:Innside Melia Hotel\, Sternentor 6\, Bremen\, 28237\, Deutschland
CATEGORIES:Regionalgruppe Bremen
ORGANIZER;CN="Regionalgruppe Bremen":MAILTO:bremen@bsb-office.de
END:VEVENT
BEGIN:VEVENT
DTSTART;TZID=UTC:20180621T183000
DTEND;TZID=UTC:20180621T210000
DTSTAMP:20260419T130817
CREATED:20180130T181202Z
LAST-MODIFIED:20180130T181202Z
UID:7407-1529605800-1529614800@bsboffice.de
SUMMARY:RG Hamburg: Hotelführung JUFA Hotel Hamburg Hafencity
DESCRIPTION:RG Hamburg: Hotelführung JUFA Hotel Hamburg Hafencity\n21. Juni 2018 | 18:30 – 20:30 Uhr
URL:https://bsboffice.de/event/rg-hamburg-hotelfuehrung-jufa-hotel-hamburg-hafencity/
ORGANIZER;CN="bSb Regionalgruppe Hamburg":MAILTO:hamburg@bsb-office.de
END:VEVENT
END:VCALENDAR