BEGIN:VCALENDAR
VERSION:2.0
PRODID:-// - ECPv6.15.19//NONSGML v1.0//EN
CALSCALE:GREGORIAN
METHOD:PUBLISH
X-ORIGINAL-URL:https://bsboffice.de
X-WR-CALDESC:Veranstaltungen für 
REFRESH-INTERVAL;VALUE=DURATION:PT1H
X-Robots-Tag:noindex
X-PUBLISHED-TTL:PT1H
BEGIN:VTIMEZONE
TZID:UTC
BEGIN:STANDARD
TZOFFSETFROM:+0000
TZOFFSETTO:+0000
TZNAME:UTC
DTSTART:20190101T000000
END:STANDARD
END:VTIMEZONE
BEGIN:VEVENT
DTSTART;TZID=UTC:20200113T180000
DTEND;TZID=UTC:20200113T200000
DTSTAMP:20260419T120146
CREATED:20200107T100451Z
LAST-MODIFIED:20200107T100556Z
UID:9184-1578938400-1578945600@bsboffice.de
SUMMARY:RG Dresden: Neu Denken - Agil - Die unbekannte Welt?
DESCRIPTION:Peter Nieschler nimmt uns in die Welt der Agilität mit. Unsere Arbeitswelt ist im Umbruch\, sie wird nicht nur schneller\, sie verändert sich grundlegend. Zusammenarbeit und Herangehensweisen an Themen werden neu gedacht. Werte und Spielregeln verändern sich.\nFreut Euch auf einen spannenden Workshop. Gäste sind gern willkommen.\n\nOrt: Dorint Hotel\, Grunaer Strsße 14\, 01069 Dresden \nAnmeldung: dresden@bsb-office.de \nRG-Dresden-Veranstaltung-2020-01-13_Agil
URL:https://bsboffice.de/event/rg-dresden-neu-denken-agil-die-unbekannte-welt/
LOCATION:Dorint Hotel Dresden\, Grunaer Straße 14\, Dresden\, 01069\, Deutschland
CATEGORIES:Regionalgruppe Dresden,Regionalgruppen
END:VEVENT
BEGIN:VEVENT
DTSTART;TZID=UTC:20200113T183000
DTEND;TZID=UTC:20200113T203000
DTSTAMP:20260419T120146
CREATED:20200107T095833Z
LAST-MODIFIED:20200107T095833Z
UID:9178-1578940200-1578947400@bsboffice.de
SUMMARY:RG Düsseldorf: Neujahrsempfang
DESCRIPTION:Neujahrsempfang ab 18:30 Uhr im Hotel Indigo \n– exklusiv für Mitglieder der Regionalgruppe –
URL:https://bsboffice.de/event/rg-duesseldorf-neujahrsempfang/
CATEGORIES:Regionalgruppe Düsseldorf,Regionalgruppen
ORGANIZER;CN="RG D%C3%BCsseldorf":MAILTO:duesseldorf@bsb-office.de
END:VEVENT
END:VCALENDAR