BEGIN:VCALENDAR
VERSION:2.0
PRODID:-// - ECPv6.15.19//NONSGML v1.0//EN
CALSCALE:GREGORIAN
METHOD:PUBLISH
X-ORIGINAL-URL:https://bsboffice.de
X-WR-CALDESC:Veranstaltungen für 
REFRESH-INTERVAL;VALUE=DURATION:PT1H
X-Robots-Tag:noindex
X-PUBLISHED-TTL:PT1H
BEGIN:VTIMEZONE
TZID:UTC
BEGIN:STANDARD
TZOFFSETFROM:+0000
TZOFFSETTO:+0000
TZNAME:UTC
DTSTART:20190101T000000
END:STANDARD
END:VTIMEZONE
BEGIN:VEVENT
DTSTART;TZID=UTC:20200428T193000
DTEND;TZID=UTC:20200428T203000
DTSTAMP:20260419T130837
CREATED:20200424T093054Z
LAST-MODIFIED:20200424T093054Z
UID:9457-1588102200-1588105800@bsboffice.de
SUMMARY:RG Berlin: Werte
DESCRIPTION:Wir gehen online – unser erster Fachabend im „Wohnzimmer“\n\nWir erleben Zeiten\, die es so noch nicht gab. „Verrückt“ möchte man es nennen: Corona hat uns im Griff. Wir arbeiten mehr von zu Hause\, unsere Aktivitäten sind eingeschränkt. Wir kaufen\, nein hamstern\, Dinge des täglichen Lebens. Aktueller denn je stellt sich da die Frage: Was oder wo sind da unsere Werte? Und wie haben sich diese in dieser Ausnahmesituation verschoben?\n\nWir haben für unseren ersten Online-Fachabend zu diesem Thema eine Referentin gefunden\, auf die wir uns sehr freuen und für die wir hoffentlich auch Sie begeistern können:\n\nKarin Knecht hat sich nach langjähriger Berufstätigkeit in den unterschiedlichsten Bereichen wie Hotellerie\, in der Assistenz und auch in Führungspositionen als Mentorin und Coach mit OfficeWoman selbständig gemacht und unterstützt Assistentinnen wie uns in Veränderungsprozessen. Wir konnten Sie gewinnen\, mit uns über das Thema Werte zu sprechen.\n\nWir treffen uns am Dienstag\, dem 28. April 2020\, um 19:30 Uhr auf Zoom. Dazu benötigen Sie einen PC\, ein Notebook oder ein Smartphone mit Kamerafunktion. Mikrofon und Internetzugang. Nach Ihrer Anmeldung erhalten Sie den Zugangslink\, dem ganz unkompliziert zu folgen ist.\n\nAnmeldung bis Sonntag\, 26. April 2020 unter berlin@bsb-office.de
URL:https://bsboffice.de/event/rg-berlin-werte/
CATEGORIES:Regionalgruppe Berlin,Regionalgruppen
END:VEVENT
END:VCALENDAR