BEGIN:VCALENDAR
VERSION:2.0
PRODID:-// - ECPv6.15.19//NONSGML v1.0//EN
CALSCALE:GREGORIAN
METHOD:PUBLISH
X-ORIGINAL-URL:https://bsboffice.de
X-WR-CALDESC:Veranstaltungen für 
REFRESH-INTERVAL;VALUE=DURATION:PT1H
X-Robots-Tag:noindex
X-PUBLISHED-TTL:PT1H
BEGIN:VTIMEZONE
TZID:UTC
BEGIN:STANDARD
TZOFFSETFROM:+0000
TZOFFSETTO:+0000
TZNAME:UTC
DTSTART:20190101T000000
END:STANDARD
END:VTIMEZONE
BEGIN:VEVENT
DTSTART;TZID=UTC:20200511T180000
DTEND;TZID=UTC:20200511T200000
DTSTAMP:20260421T100527
CREATED:20200107T101039Z
LAST-MODIFIED:20200313T093918Z
UID:9201-1589220000-1589227200@bsboffice.de
SUMMARY:RG Dresden: Vom Licht aus Gas zum roten Theaterfeuer
DESCRIPTION:Treffpunkt: Bistro & Café T1\, Kraftwerk Mitte 1 \nDas Kraftwerk Mitte Dresden\, ein imposantes Industriedenkmal aus dem 19. Jahrhundert\, hat sich verwandelt. Dresden freut sich über einen einzigartigen Kunst-\, Kultur- und Kreativstandort mitten in der Stadt. Exzellente Lage\, beeindruckende Architektur\, innovative Ideen. Im Dezember 2016 öffneten Staatsoperette Dresden und tjg. theater junge generation ihre Türen am neuen Standort. \nNeben den Theatern wird noch viel mehr geboten: von der Eventlocation Kraftwerk Mitte über die Musikhochschule bis zum Energiemuseum\, Den neuen Kulturstandort komplettieren Gastronomie\, Inspiration und moderne Arbeitswelten sowie demnächst auch ein Kino. Der ehrwürdige Charme der alten Industriegemäuer wird Sie in den Bann ziehen! \nErfahren Sie einen Bummel durch die Gassen und über gesellige Plätze von den Wandlungen der Gas-\, Fernwärme- und Stromproduktion in Dresden und erleben Sie dabei die vielfältigen neuen und geplanten Nutzungen im Areal…. \nAb 19:00 Uhr ist ein Tisch im Bistro reserviert. \nAnmeldung: dresden@bsboffice.de
URL:https://bsboffice.de/event/rg-dresden-vom-licht-aus-gas-zum-roten-theaterfeuer/
CATEGORIES:Regionalgruppe Dresden,Regionalgruppen
END:VEVENT
END:VCALENDAR