BEGIN:VCALENDAR
VERSION:2.0
PRODID:-// - ECPv6.15.19//NONSGML v1.0//EN
CALSCALE:GREGORIAN
METHOD:PUBLISH
X-ORIGINAL-URL:https://bsboffice.de
X-WR-CALDESC:Veranstaltungen für 
REFRESH-INTERVAL;VALUE=DURATION:PT1H
X-Robots-Tag:noindex
X-PUBLISHED-TTL:PT1H
BEGIN:VTIMEZONE
TZID:UTC
BEGIN:STANDARD
TZOFFSETFROM:+0000
TZOFFSETTO:+0000
TZNAME:UTC
DTSTART:20190101T000000
END:STANDARD
END:VTIMEZONE
BEGIN:VEVENT
DTSTART;TZID=UTC:20200519T183000
DTEND;TZID=UTC:20200519T211500
DTSTAMP:20260423T140849
CREATED:20200109T084054Z
LAST-MODIFIED:20200313T093046Z
UID:9245-1589913000-1589922900@bsboffice.de
SUMMARY:RG Frankfurt: New Work
DESCRIPTION:Referentin: Susanne Busshart
URL:https://bsboffice.de/event/rg-frankfurt-new-work/
CATEGORIES:Regionalgruppe Frankfurt,Regionalgruppen
ORGANIZER;CN="RG Frankfurt":MAILTO:frankfurt@bsboffice.de
END:VEVENT
END:VCALENDAR