BEGIN:VCALENDAR
VERSION:2.0
PRODID:-// - ECPv6.15.19//NONSGML v1.0//EN
CALSCALE:GREGORIAN
METHOD:PUBLISH
X-ORIGINAL-URL:https://bsboffice.de
X-WR-CALDESC:Veranstaltungen für 
REFRESH-INTERVAL;VALUE=DURATION:PT1H
X-Robots-Tag:noindex
X-PUBLISHED-TTL:PT1H
BEGIN:VTIMEZONE
TZID:UTC
BEGIN:STANDARD
TZOFFSETFROM:+0000
TZOFFSETTO:+0000
TZNAME:UTC
DTSTART:20190101T000000
END:STANDARD
END:VTIMEZONE
BEGIN:VEVENT
DTSTART;TZID=UTC:20200608T180000
DTEND;TZID=UTC:20200608T200000
DTSTAMP:20260419T152155
CREATED:20200107T101147Z
LAST-MODIFIED:20200107T101147Z
UID:9204-1591639200-1591646400@bsboffice.de
SUMMARY:RG Dresden: Strategien zur Konfliktbewältigung
DESCRIPTION:Referentin: Petra C. Erdmann \nDetails folgen
URL:https://bsboffice.de/event/rg-dresden-strategien-zur-konfliktbewaeltigung/
CATEGORIES:Regionalgruppe Dresden,Regionalgruppen
END:VEVENT
END:VCALENDAR