BEGIN:VCALENDAR
VERSION:2.0
PRODID:-// - ECPv6.15.19//NONSGML v1.0//EN
CALSCALE:GREGORIAN
METHOD:PUBLISH
X-ORIGINAL-URL:https://bsboffice.de
X-WR-CALDESC:Veranstaltungen für 
REFRESH-INTERVAL;VALUE=DURATION:PT1H
X-Robots-Tag:noindex
X-PUBLISHED-TTL:PT1H
BEGIN:VTIMEZONE
TZID:UTC
BEGIN:STANDARD
TZOFFSETFROM:+0000
TZOFFSETTO:+0000
TZNAME:UTC
DTSTART:20190101T000000
END:STANDARD
END:VTIMEZONE
BEGIN:VEVENT
DTSTART;TZID=UTC:20200609T190000
DTEND;TZID=UTC:20200609T210000
DTSTAMP:20260419T152410
CREATED:20200303T143338Z
LAST-MODIFIED:20200303T143338Z
UID:9406-1591729200-1591736400@bsboffice.de
SUMMARY:RG Köln: Die neue DIN 5008
DESCRIPTION:Referentin: Rosemarie Rehbein\, Seminare Beratung Coaching\nVeranstaltungsort: Leoninum\, Bonn
URL:https://bsboffice.de/event/rg-koeln-die-neue-din-5008/
CATEGORIES:Regionalgruppe Köln,Regionalgruppen
END:VEVENT
END:VCALENDAR