BEGIN:VCALENDAR
VERSION:2.0
PRODID:-// - ECPv6.15.19//NONSGML v1.0//EN
CALSCALE:GREGORIAN
METHOD:PUBLISH
X-ORIGINAL-URL:https://bsboffice.de
X-WR-CALDESC:Veranstaltungen für 
REFRESH-INTERVAL;VALUE=DURATION:PT1H
X-Robots-Tag:noindex
X-PUBLISHED-TTL:PT1H
BEGIN:VTIMEZONE
TZID:UTC
BEGIN:STANDARD
TZOFFSETFROM:+0000
TZOFFSETTO:+0000
TZNAME:UTC
DTSTART:20190101T000000
END:STANDARD
END:VTIMEZONE
BEGIN:VEVENT
DTSTART;TZID=UTC:20200806T180000
DTEND;TZID=UTC:20200806T210000
DTSTAMP:20260419T183544
CREATED:20200803T175517Z
LAST-MODIFIED:20200803T175517Z
UID:10425-1596736800-1596747600@bsboffice.de
SUMMARY:RG Rhein-Neckar: Sommerevent "Abendessen in den Rheinterrassen"
DESCRIPTION:
URL:https://bsboffice.de/event/rg-rhein-neckar-sommerevent-abendessen-in-den-rheinterrassen/
LOCATION:Rheinterrassen Gasthaus am Fluss\, Rheinpromenade 15\, Mannheim\, 68163\, Deutschland
CATEGORIES:Regionalgruppe Rhein-Neckar
END:VEVENT
END:VCALENDAR