BEGIN:VCALENDAR
VERSION:2.0
PRODID:-// - ECPv6.15.19//NONSGML v1.0//EN
CALSCALE:GREGORIAN
METHOD:PUBLISH
X-ORIGINAL-URL:https://bsboffice.de
X-WR-CALDESC:Veranstaltungen für 
REFRESH-INTERVAL;VALUE=DURATION:PT1H
X-Robots-Tag:noindex
X-PUBLISHED-TTL:PT1H
BEGIN:VTIMEZONE
TZID:UTC
BEGIN:STANDARD
TZOFFSETFROM:+0000
TZOFFSETTO:+0000
TZNAME:UTC
DTSTART:20190101T000000
END:STANDARD
END:VTIMEZONE
BEGIN:VEVENT
DTSTART;TZID=UTC:20200824T190000
DTEND;TZID=UTC:20200824T203000
DTSTAMP:20260419T184027
CREATED:20200823T210612Z
LAST-MODIFIED:20200823T210612Z
UID:10481-1598295600-1598301000@bsboffice.de
SUMMARY:RG Stuttgart: Im Büro? - Nein\, da bin ich nicht immer ich selbst... (via ZOOM)
DESCRIPTION:Referent: Ralf Tiemann \nDer Einwahllink wird nach Anmeldung per E-Mail verschickt.
URL:https://bsboffice.de/event/rg-stuttgart-im-buero-nein-da-bin-ich-nicht-immer-ich-selbst-via-zoom/
CATEGORIES:Regionalgruppe Stuttgart
END:VEVENT
END:VCALENDAR