BEGIN:VCALENDAR
VERSION:2.0
PRODID:-// - ECPv6.15.19//NONSGML v1.0//EN
CALSCALE:GREGORIAN
METHOD:PUBLISH
X-ORIGINAL-URL:https://bsboffice.de
X-WR-CALDESC:Veranstaltungen für 
REFRESH-INTERVAL;VALUE=DURATION:PT1H
X-Robots-Tag:noindex
X-PUBLISHED-TTL:PT1H
BEGIN:VTIMEZONE
TZID:UTC
BEGIN:STANDARD
TZOFFSETFROM:+0000
TZOFFSETTO:+0000
TZNAME:UTC
DTSTART:20190101T000000
END:STANDARD
END:VTIMEZONE
BEGIN:VEVENT
DTSTART;TZID=UTC:20200907T180000
DTEND;TZID=UTC:20200907T200000
DTSTAMP:20260421T144859
CREATED:20200107T101331Z
LAST-MODIFIED:20200107T101331Z
UID:9207-1599501600-1599508800@bsboffice.de
SUMMARY:RG Dresden: Veranstaltungsmanagement leicht gemacht
DESCRIPTION:Systemlösung von Durable\nReferenten: Lea Ernst\, Manfred Schoebel \nDetails folgen
URL:https://bsboffice.de/event/rg-dresden-veranstaltungsmanagement-leicht-gemacht/
CATEGORIES:Regionalgruppe Dresden,Regionalgruppen
END:VEVENT
END:VCALENDAR