BEGIN:VCALENDAR
VERSION:2.0
PRODID:-// - ECPv6.15.19//NONSGML v1.0//EN
CALSCALE:GREGORIAN
METHOD:PUBLISH
X-ORIGINAL-URL:https://bsboffice.de
X-WR-CALDESC:Veranstaltungen für 
REFRESH-INTERVAL;VALUE=DURATION:PT1H
X-Robots-Tag:noindex
X-PUBLISHED-TTL:PT1H
BEGIN:VTIMEZONE
TZID:UTC
BEGIN:STANDARD
TZOFFSETFROM:+0000
TZOFFSETTO:+0000
TZNAME:UTC
DTSTART:20190101T000000
END:STANDARD
END:VTIMEZONE
BEGIN:VEVENT
DTSTART;TZID=UTC:20200908T173000
DTEND;TZID=UTC:20200908T203000
DTSTAMP:20260421T144933
CREATED:20200731T142350Z
LAST-MODIFIED:20200823T213345Z
UID:10419-1599586200-1599597000@bsboffice.de
SUMMARY:RG Ruhrgebiet: Nur Mut – sicher handeln in unsicheren Zeiten
DESCRIPTION:Referent: Stefan Hagen
URL:https://bsboffice.de/event/rg-ruhrgebiet-nur-mut-sicher-handeln-in-unsicheren-zeiten/
LOCATION:IntercityHotel Essen\, Hachestraße 10\, Essen\, 45127\, Deutschland
CATEGORIES:Regionalgruppe Ruhrgebiet
END:VEVENT
END:VCALENDAR