BEGIN:VCALENDAR
VERSION:2.0
PRODID:-// - ECPv6.15.19//NONSGML v1.0//EN
CALSCALE:GREGORIAN
METHOD:PUBLISH
X-ORIGINAL-URL:https://bsboffice.de
X-WR-CALDESC:Veranstaltungen für 
REFRESH-INTERVAL;VALUE=DURATION:PT1H
X-Robots-Tag:noindex
X-PUBLISHED-TTL:PT1H
BEGIN:VTIMEZONE
TZID:UTC
BEGIN:STANDARD
TZOFFSETFROM:+0000
TZOFFSETTO:+0000
TZNAME:UTC
DTSTART:20190101T000000
END:STANDARD
END:VTIMEZONE
BEGIN:VEVENT
DTSTART;TZID=UTC:20200916T160000
DTEND;TZID=UTC:20200916T190000
DTSTAMP:20260421T163335
CREATED:20200821T115033Z
LAST-MODIFIED:20200821T120504Z
UID:10458-1600272000-1600282800@bsboffice.de
SUMMARY:RG Hannover: Besichtigung des Niedersächsischen Landtages mit Besuch einer Plenarsitzung
DESCRIPTION:Besichtigung des Niedersächsischen Landtages mit Besuch einer Plenarsitzung und anschließender Diskussion mit Landtagsabgeordneten. Ausklang des Abends im Restaurant. \nVeranstaltungsort: \nNiedersächsischer Landtag \nHannah-Arendt-Platz 1 \n30159 Hannover \nFragen an: \n\nGabriela Drath \n  \n\nWera Pinz \nLeiterinnen \nhannover@bsb-office.de \n  \nAufgrund der Corona-Krise: Augenblicklich keine verbindlichen Termine – gegebenenfalls finden Vorträge nicht als Präsenzveranstaltung statt\, sondern als „Zoom-Meeting“.
URL:https://bsboffice.de/event/rg-hannover-besichtigung-des-niedersaechsischen-landtages-mit-besuch-einer-plenarsitzung/
LOCATION:Niedersächsischer Landtag\, Hannah-Arendt-Platz 1\, Hannover\, 30159\, Deutschland
CATEGORIES:Regionalgruppe Hannover,Regionalgruppen
ORGANIZER;CN="Regionalgruppe Hannover":MAILTO:hannover@bsb-office.de
END:VEVENT
BEGIN:VEVENT
DTSTART;TZID=UTC:20200916T180000
DTEND;TZID=UTC:20200916T193000
DTSTAMP:20260421T163335
CREATED:20200823T204708Z
LAST-MODIFIED:20200823T204708Z
UID:10477-1600279200-1600284600@bsboffice.de
SUMMARY:RG Stuttgart: Aufbruch zu neuen Zielen
DESCRIPTION:Referentin: Heidi Sand
URL:https://bsboffice.de/event/rg-stuttgart-aufbruch-zu-neuen-zielen/
LOCATION:Academie der Schönsten Künste\, Charlottenstr. 5\, Stuttgart\, 70182
CATEGORIES:Regionalgruppe Stuttgart
END:VEVENT
END:VCALENDAR