BEGIN:VCALENDAR
VERSION:2.0
PRODID:-// - ECPv6.15.19//NONSGML v1.0//EN
CALSCALE:GREGORIAN
METHOD:PUBLISH
X-ORIGINAL-URL:https://bsboffice.de
X-WR-CALDESC:Veranstaltungen für 
REFRESH-INTERVAL;VALUE=DURATION:PT1H
X-Robots-Tag:noindex
X-PUBLISHED-TTL:PT1H
BEGIN:VTIMEZONE
TZID:UTC
BEGIN:STANDARD
TZOFFSETFROM:+0000
TZOFFSETTO:+0000
TZNAME:UTC
DTSTART:20190101T000000
END:STANDARD
END:VTIMEZONE
BEGIN:VEVENT
DTSTART;TZID=UTC:20201102T180000
DTEND;TZID=UTC:20201102T200000
DTSTAMP:20260422T021429
CREATED:20200107T101523Z
LAST-MODIFIED:20200107T101523Z
UID:9213-1604340000-1604347200@bsboffice.de
SUMMARY:RG Dresden: Selbstmanagement
DESCRIPTION:Details folgen
URL:https://bsboffice.de/event/rg-dresden-selbstmanagement/
CATEGORIES:Regionalgruppe Dresden,Regionalgruppen
END:VEVENT
END:VCALENDAR