BEGIN:VCALENDAR
VERSION:2.0
PRODID:-// - ECPv6.15.19//NONSGML v1.0//EN
CALSCALE:GREGORIAN
METHOD:PUBLISH
X-ORIGINAL-URL:https://bsboffice.de
X-WR-CALDESC:Veranstaltungen für 
REFRESH-INTERVAL;VALUE=DURATION:PT1H
X-Robots-Tag:noindex
X-PUBLISHED-TTL:PT1H
BEGIN:VTIMEZONE
TZID:UTC
BEGIN:STANDARD
TZOFFSETFROM:+0000
TZOFFSETTO:+0000
TZNAME:UTC
DTSTART:20190101T000000
END:STANDARD
END:VTIMEZONE
BEGIN:VEVENT
DTSTART;TZID=UTC:20201110T190000
DTEND;TZID=UTC:20201110T203000
DTSTAMP:20260422T021511
CREATED:20200920T215638Z
LAST-MODIFIED:20201030T135335Z
UID:10528-1605034800-1605040200@bsboffice.de
SUMMARY:RG Frankfurt: Effizientes Selbstmanagement im Homeoffice (via ZOOM)
DESCRIPTION:Referentin: Diana Brandl
URL:https://bsboffice.de/event/rg-frankfurt-effizientes-selbstmanagement-im-homeoffice-online/
CATEGORIES:Regionalgruppe Frankfurt,Regionalgruppen
END:VEVENT
END:VCALENDAR