BEGIN:VCALENDAR
VERSION:2.0
PRODID:-// - ECPv6.15.19//NONSGML v1.0//EN
CALSCALE:GREGORIAN
METHOD:PUBLISH
X-ORIGINAL-URL:https://bsboffice.de
X-WR-CALDESC:Veranstaltungen für 
REFRESH-INTERVAL;VALUE=DURATION:PT1H
X-Robots-Tag:noindex
X-PUBLISHED-TTL:PT1H
BEGIN:VTIMEZONE
TZID:UTC
BEGIN:STANDARD
TZOFFSETFROM:+0000
TZOFFSETTO:+0000
TZNAME:UTC
DTSTART:20190101T000000
END:STANDARD
END:VTIMEZONE
BEGIN:VEVENT
DTSTART;TZID=UTC:20201125T180000
DTEND;TZID=UTC:20201125T200000
DTSTAMP:20260422T021538
CREATED:20200821T115539Z
LAST-MODIFIED:20200821T120446Z
UID:10463-1606327200-1606334400@bsboffice.de
SUMMARY:RG Hannover: „Cyberkriminalität und Prävention“
DESCRIPTION:„Cyberkriminalität und Prävention“ \nReferent: Carsten Fischer\, Dezernat 38 LKA \n– Zentrale Ansprechstelle für Cybercrime (ZAC) \n  \nVeranstaltungsort: \nRestaurant „Da Lello“ \nMarienstraße 5\n30171 Hannover \nFragen an: \n\nGabriela Drath \n  \n\nWera Pinz \nLeiterinnen \nhannover@bsb-office.de \n  \nAufgrund der Corona-Krise: Augenblicklich keine verbindlichen Termine – gegebenenfalls finden Vorträge nicht als Präsenzveranstaltung statt\, sondern als „Zoom-Meeting“.
URL:https://bsboffice.de/event/rg-hannover-cyberkriminalitaet-und-praevention/
LOCATION:Restaurant „Da Lello“\, Marienstrasse 5 \, Hannover \, 30171\, Deutschland
CATEGORIES:Regionalgruppe Hannover,Regionalgruppen
END:VEVENT
BEGIN:VEVENT
DTSTART;TZID=UTC:20201125T193000
DTEND;TZID=UTC:20201125T210000
DTSTAMP:20260422T021538
CREATED:20200920T214453Z
LAST-MODIFIED:20201104T235532Z
UID:10524-1606332600-1606338000@bsboffice.de
SUMMARY:RG Stuttgart: Life happens\, while you're making plans (via ZOOM)
DESCRIPTION:Referentin: Sabine Wöhrstein
URL:https://bsboffice.de/event/rg-stuttgart-life-happens-while-youre-making-plans/
CATEGORIES:Regionalgruppe Stuttgart,Regionalgruppen
END:VEVENT
END:VCALENDAR