BEGIN:VCALENDAR
VERSION:2.0
PRODID:-// - ECPv6.15.19//NONSGML v1.0//EN
CALSCALE:GREGORIAN
METHOD:PUBLISH
X-ORIGINAL-URL:https://bsboffice.de
X-WR-CALDESC:Veranstaltungen für 
REFRESH-INTERVAL;VALUE=DURATION:PT1H
X-Robots-Tag:noindex
X-PUBLISHED-TTL:PT1H
BEGIN:VTIMEZONE
TZID:UTC
BEGIN:STANDARD
TZOFFSETFROM:+0000
TZOFFSETTO:+0000
TZNAME:UTC
DTSTART:20190101T000000
END:STANDARD
END:VTIMEZONE
BEGIN:VEVENT
DTSTART;TZID=UTC:20201127T180000
DTEND;TZID=UTC:20201127T200000
DTSTAMP:20260422T021536
CREATED:20200107T101728Z
LAST-MODIFIED:20200107T101728Z
UID:9219-1606500000-1606507200@bsboffice.de
SUMMARY:RG Dresden: Netzwerken im Advent
DESCRIPTION:Details folgen
URL:https://bsboffice.de/event/rg-dresden-netzwerken-im-advent/
CATEGORIES:Regionalgruppe Dresden,Regionalgruppen
END:VEVENT
END:VCALENDAR