BEGIN:VCALENDAR
VERSION:2.0
PRODID:-// - ECPv6.15.19//NONSGML v1.0//EN
CALSCALE:GREGORIAN
METHOD:PUBLISH
X-ORIGINAL-URL:https://bsboffice.de
X-WR-CALDESC:Veranstaltungen für 
REFRESH-INTERVAL;VALUE=DURATION:PT1H
X-Robots-Tag:noindex
X-PUBLISHED-TTL:PT1H
BEGIN:VTIMEZONE
TZID:UTC
BEGIN:STANDARD
TZOFFSETFROM:+0000
TZOFFSETTO:+0000
TZNAME:UTC
DTSTART:20190101T000000
END:STANDARD
END:VTIMEZONE
BEGIN:VEVENT
DTSTART;TZID=UTC:20201209T180000
DTEND;TZID=UTC:20201209T210000
DTSTAMP:20260422T004841
CREATED:20200920T214610Z
LAST-MODIFIED:20200920T214610Z
UID:10526-1607536800-1607547600@bsboffice.de
SUMMARY:RG Stuttgart: Weihnachtsfeier 2020
DESCRIPTION:
URL:https://bsboffice.de/event/rg-stuttgart-weihnachtsfeier-2020/
LOCATION:Mezzogiorno\, Kriegsbergstr. 55\, Stuttgart\, 70174
CATEGORIES:Regionalgruppe Stuttgart,Regionalgruppen
END:VEVENT
END:VCALENDAR