BEGIN:VCALENDAR
VERSION:2.0
PRODID:-// - ECPv6.15.19//NONSGML v1.0//EN
CALSCALE:GREGORIAN
METHOD:PUBLISH
X-ORIGINAL-URL:https://bsboffice.de
X-WR-CALDESC:Veranstaltungen für 
REFRESH-INTERVAL;VALUE=DURATION:PT1H
X-Robots-Tag:noindex
X-PUBLISHED-TTL:PT1H
BEGIN:VTIMEZONE
TZID:UTC
BEGIN:STANDARD
TZOFFSETFROM:+0000
TZOFFSETTO:+0000
TZNAME:UTC
DTSTART:20190101T000000
END:STANDARD
END:VTIMEZONE
BEGIN:VEVENT
DTSTART;TZID=UTC:20201215T190000
DTEND;TZID=UTC:20201215T200000
DTSTAMP:20260422T004826
CREATED:20201207T192410Z
LAST-MODIFIED:20201207T192410Z
UID:10625-1608058800-1608062400@bsboffice.de
SUMMARY:RG Rhein-Neckar: Virtuelle Weihnachtsfeier
DESCRIPTION:Kurz vor Jahresende möchten wir die Gelegenheit nutzen und alle unsere Mitglieder zu unserer ersten virtuellen Weihnachtsfeier einladen. Wir beschreiten damit ganz neue Wege. Sicherlich wird es ein einmaliges Erlebnis für uns alle werden – ein Abend voller Überraschungen.
URL:https://bsboffice.de/event/rg-rhein-neckar-virtuelle-weihnachtsfeier/
END:VEVENT
END:VCALENDAR