BEGIN:VCALENDAR
VERSION:2.0
PRODID:-// - ECPv6.15.19//NONSGML v1.0//EN
CALSCALE:GREGORIAN
METHOD:PUBLISH
X-ORIGINAL-URL:https://bsboffice.de
X-WR-CALDESC:Veranstaltungen für 
REFRESH-INTERVAL;VALUE=DURATION:PT1H
X-Robots-Tag:noindex
X-PUBLISHED-TTL:PT1H
BEGIN:VTIMEZONE
TZID:UTC
BEGIN:STANDARD
TZOFFSETFROM:+0000
TZOFFSETTO:+0000
TZNAME:UTC
DTSTART:20200101T000000
END:STANDARD
END:VTIMEZONE
BEGIN:VEVENT
DTSTART;TZID=UTC:20210120T190000
DTEND;TZID=UTC:20210120T210000
DTSTAMP:20260421T232124
CREATED:20210225T101530Z
LAST-MODIFIED:20210225T103237Z
UID:10842-1611169200-1611176400@bsboffice.de
SUMMARY:RG Hannover: Jahresversammlung (via ZOOM)
DESCRIPTION:– nur für Mitglieder –
URL:https://bsboffice.de/event/rg-hannover-jahresversammlung-via-zoom/
CATEGORIES:Regionalgruppe Hannover,Regionalgruppen
ORGANIZER;CN="Regionalgruppe Hannover":MAILTO:hannover@bsb-office.de
END:VEVENT
END:VCALENDAR