BEGIN:VCALENDAR
VERSION:2.0
PRODID:-// - ECPv6.15.19//NONSGML v1.0//EN
CALSCALE:GREGORIAN
METHOD:PUBLISH
X-ORIGINAL-URL:https://bsboffice.de
X-WR-CALDESC:Veranstaltungen für 
REFRESH-INTERVAL;VALUE=DURATION:PT1H
X-Robots-Tag:noindex
X-PUBLISHED-TTL:PT1H
BEGIN:VTIMEZONE
TZID:UTC
BEGIN:STANDARD
TZOFFSETFROM:+0000
TZOFFSETTO:+0000
TZNAME:UTC
DTSTART:20200101T000000
END:STANDARD
END:VTIMEZONE
BEGIN:VEVENT
DTSTART;TZID=UTC:20210224T190000
DTEND;TZID=UTC:20210224T203000
DTSTAMP:20260421T213857
CREATED:20201108T081328Z
LAST-MODIFIED:20210111T072642Z
UID:10596-1614193200-1614198600@bsboffice.de
SUMMARY:RG Rhein-Neckar: Frage- und Antwortrunde (Q&A) zu MS Office (via Zoom)
DESCRIPTION:Maßgeschneiderte MS-Office-Schulung mit Anuschka Schwed \nIn vielen Unternehmen wird Microsoft Office als Software für Textverarbeitung\, Tabellenkalkulation\, Präsentation und Email-Management genutzt. Trotz der weiten Verbreitung von Microsoft Office\, heißt das aber noch lange nicht\, dass Mitarbeiter die Möglichkeiten von Word\, Excel\, PowerPoint\, Access\, OneNote und Outlook auch sinnvoll\, effizient und damit zeitsparend nutzen. \nBisherige Themen: papierloses Arbeiten\, Zeitspartipps\, Shortcuts\nAnmeldung und Themenvorschläge bitte an <rhein-neckar@bsb-office.de>
URL:https://bsboffice.de/event/frage-und-antwortrunde-qa-zu-ms-office-via-zoom/
CATEGORIES:Regionalgruppe Rhein-Neckar
END:VEVENT
BEGIN:VEVENT
DTSTART;TZID=UTC:20210224T190000
DTEND;TZID=UTC:20210224T210000
DTSTAMP:20260421T213857
CREATED:20210130T133203Z
LAST-MODIFIED:20210130T133203Z
UID:10786-1614193200-1614200400@bsboffice.de
SUMMARY:RG Düsseldorf: Kommunikation in herausfordernden Zeiten | Mindset und Energie
DESCRIPTION:Reflektion und Austausch zum Termin am 10.02.2021\nKarin Knecht\, OfficeWomen
URL:https://bsboffice.de/event/rg-duesseldorf-kommunikation-in-herausfordernden-zeiten-mindset-und-energie/
CATEGORIES:Regionalgruppe Düsseldorf,Regionalgruppen
END:VEVENT
END:VCALENDAR