BEGIN:VCALENDAR
VERSION:2.0
PRODID:-// - ECPv6.15.19//NONSGML v1.0//EN
CALSCALE:GREGORIAN
METHOD:PUBLISH
X-ORIGINAL-URL:https://bsboffice.de
X-WR-CALDESC:Veranstaltungen für 
REFRESH-INTERVAL;VALUE=DURATION:PT1H
X-Robots-Tag:noindex
X-PUBLISHED-TTL:PT1H
BEGIN:VTIMEZONE
TZID:UTC
BEGIN:STANDARD
TZOFFSETFROM:+0000
TZOFFSETTO:+0000
TZNAME:UTC
DTSTART:20200101T000000
END:STANDARD
END:VTIMEZONE
BEGIN:VEVENT
DTSTART;TZID=UTC:20210309T190000
DTEND;TZID=UTC:20210309T200000
DTSTAMP:20260421T181219
CREATED:20210110T080228Z
LAST-MODIFIED:20210211T123221Z
UID:10690-1615316400-1615320000@bsboffice.de
SUMMARY:RG Rhein-Neckar: Self-Update in digitalen Zeiten (via ZOOM)
DESCRIPTION:Referent: Wulf-Hinnerk Vauk \nWie sehen mich die anderen\, wie sehe ich mich selbst? Gönnen Sie nicht nur Ihrem Computer\, sondern sich selbst ein „Update“ mit kleinen Tests und Übungen. Sich immer wieder neu zu erfinden ist der Schlüssel zum Glücklich sein. Und dies erst recht in einer Zeit\, in der digitale und soziale Medien unser Leben und unsere Persönlichkeit mehr prägen als je zuvor. \nUnser Referent\, Autor\, Berater\, Coach\, Trainer und Speaker\, war zuletzt Verwaltungschef des Energiekonzerns E.ON. Aus der Breite seiner Erfahrungen bietet er Anregungen und Tipps wie wir es erreichen können\, immer wieder neu bei uns selbst zu landen. \nAnmeldung unter <rhein-neckar@bsb-office.de>
URL:https://bsboffice.de/event/rg-rhein-neckar-self-update-in-digitalen-zeiten-via-zoom/
CATEGORIES:Regionalgruppe Rhein-Neckar,Regionalgruppen
END:VEVENT
BEGIN:VEVENT
DTSTART;TZID=UTC:20210309T190000
DTEND;TZID=UTC:20210309T203000
DTSTAMP:20260421T181219
CREATED:20201030T135815Z
LAST-MODIFIED:20210225T113006Z
UID:10579-1615316400-1615321800@bsboffice.de
SUMMARY:RG Ruhrgebiet: Tanzende Finger - Finger Qigong (via ZOOM)
DESCRIPTION:Referentin: Heike Hülsmann
URL:https://bsboffice.de/event/rg-ruhrgebiet-finger-qigong-entspannung-fuer-beanspruchte-haende-und-finger/
CATEGORIES:Regionalgruppe Ruhrgebiet,Regionalgruppen
END:VEVENT
END:VCALENDAR