BEGIN:VCALENDAR
VERSION:2.0
PRODID:-// - ECPv6.15.19//NONSGML v1.0//EN
CALSCALE:GREGORIAN
METHOD:PUBLISH
X-ORIGINAL-URL:https://bsboffice.de
X-WR-CALDESC:Veranstaltungen für 
REFRESH-INTERVAL;VALUE=DURATION:PT1H
X-Robots-Tag:noindex
X-PUBLISHED-TTL:PT1H
BEGIN:VTIMEZONE
TZID:UTC
BEGIN:STANDARD
TZOFFSETFROM:+0000
TZOFFSETTO:+0000
TZNAME:UTC
DTSTART:20200101T000000
END:STANDARD
END:VTIMEZONE
BEGIN:VEVENT
DTSTART;TZID=UTC:20210330T190000
DTEND;TZID=UTC:20210330T203000
DTSTAMP:20260423T154034
CREATED:20210321T162439Z
LAST-MODIFIED:20210321T162439Z
UID:10949-1617130800-1617136200@bsboffice.de
SUMMARY:RG Berlin: Mehr Leichtigkeit in schwierigen Situationen (via ZOOM)
DESCRIPTION:Referentin: Sandra Wolff
URL:https://bsboffice.de/event/rg-berlin-mehr-leichtigkeit-in-schwierigen-situationen-via-zoom/
CATEGORIES:Regionalgruppe Berlin,Regionalgruppen
ORGANIZER;CN="Regionalgruppe Berlin":MAILTO:berlin@bsboffice.de
END:VEVENT
END:VCALENDAR