BEGIN:VCALENDAR
VERSION:2.0
PRODID:-// - ECPv6.15.19//NONSGML v1.0//EN
CALSCALE:GREGORIAN
METHOD:PUBLISH
X-ORIGINAL-URL:https://bsboffice.de
X-WR-CALDESC:Veranstaltungen für 
REFRESH-INTERVAL;VALUE=DURATION:PT1H
X-Robots-Tag:noindex
X-PUBLISHED-TTL:PT1H
BEGIN:VTIMEZONE
TZID:UTC
BEGIN:STANDARD
TZOFFSETFROM:+0000
TZOFFSETTO:+0000
TZNAME:UTC
DTSTART:20200101T000000
END:STANDARD
END:VTIMEZONE
BEGIN:VEVENT
DTSTART;TZID=UTC:20210412T180000
DTEND;TZID=UTC:20210412T200000
DTSTAMP:20260423T172701
CREATED:20210408T123536Z
LAST-MODIFIED:20210408T123536Z
UID:11009-1618250400-1618257600@bsboffice.de
SUMMARY:RG Dresden: DIN 5008-Webinar (via ZOOM)
DESCRIPTION:Referentin: Rosemarie Rehbein
URL:https://bsboffice.de/event/rg-dresden-din-5008-webinar-via-zoom/
CATEGORIES:Regionalgruppe Dresden,Regionalgruppen
ORGANIZER;CN="Regionalgruppe Dresden":MAILTO:dresden@bsboffice.de
END:VEVENT
END:VCALENDAR