BEGIN:VCALENDAR
VERSION:2.0
PRODID:-// - ECPv6.15.19//NONSGML v1.0//EN
CALSCALE:GREGORIAN
METHOD:PUBLISH
X-ORIGINAL-URL:https://bsboffice.de
X-WR-CALDESC:Veranstaltungen für 
REFRESH-INTERVAL;VALUE=DURATION:PT1H
X-Robots-Tag:noindex
X-PUBLISHED-TTL:PT1H
BEGIN:VTIMEZONE
TZID:UTC
BEGIN:STANDARD
TZOFFSETFROM:+0000
TZOFFSETTO:+0000
TZNAME:UTC
DTSTART:20200101T000000
END:STANDARD
END:VTIMEZONE
BEGIN:VEVENT
DTSTART;TZID=UTC:20210414T190000
DTEND;TZID=UTC:20210414T210000
DTSTAMP:20260421T144853
CREATED:20210130T133505Z
LAST-MODIFIED:20210408T123905Z
UID:10790-1618426800-1618434000@bsboffice.de
SUMMARY:RG Düsseldorf: Augentraining: Wellness für die Augen (via ZOOM)
DESCRIPTION:Heike Zeitler\, Inhaberin Qualität & Service
URL:https://bsboffice.de/event/rg-duesseldorf-augentraining-wellness-fuer-die-augen/
CATEGORIES:Regionalgruppe Düsseldorf,Regionalgruppen
ORGANIZER;CN="RG D%C3%BCsseldorf":MAILTO:duesseldorf@bsb-office.de
END:VEVENT
END:VCALENDAR