BEGIN:VCALENDAR
VERSION:2.0
PRODID:-// - ECPv6.15.19//NONSGML v1.0//EN
CALSCALE:GREGORIAN
METHOD:PUBLISH
X-ORIGINAL-URL:https://bsboffice.de
X-WR-CALDESC:Veranstaltungen für 
REFRESH-INTERVAL;VALUE=DURATION:PT1H
X-Robots-Tag:noindex
X-PUBLISHED-TTL:PT1H
BEGIN:VTIMEZONE
TZID:UTC
BEGIN:STANDARD
TZOFFSETFROM:+0000
TZOFFSETTO:+0000
TZNAME:UTC
DTSTART:20200101T000000
END:STANDARD
END:VTIMEZONE
BEGIN:VEVENT
DTSTART;TZID=UTC:20210520T183000
DTEND;TZID=UTC:20210520T200000
DTSTAMP:20260423T154755
CREATED:20210124T191944Z
LAST-MODIFIED:20210507T075311Z
UID:10766-1621535400-1621540800@bsboffice.de
SUMMARY:RG Saar: Machen Sie mich mal digital (via ZOOM)
DESCRIPTION:Referentin: Silke Nevermann \nWir sprechen über digitale Chef*innen-Entlastung & Mobiles Arbeiten im wahren Leben und beantworten die Frage\, wie organisiere ich die digitale Zusammenarbeit mit der/m Vorgesetzten in den vernetzten Zeiten von MS Teams\, Zoom\, Chats und anderen digitalen Kommunikationskanälen wirksam und effizient. Mit welchen Tools und Teamverabredungen kann wirksame virtuelle Zusammenarbeit gelingen? Wie bin und bleibe ich im Home Office auf dem aktuellen Informationsstand und im Team gut vernetzt?
URL:https://bsboffice.de/event/rg-saar-bueroorganisation-in-zeiten-von-mail-facebook-zoom-co-via-zoom/
LOCATION:Zoom
CATEGORIES:Regionalgruppe Saar,Regionalgruppen
END:VEVENT
END:VCALENDAR