BEGIN:VCALENDAR
VERSION:2.0
PRODID:-// - ECPv6.15.19//NONSGML v1.0//EN
CALSCALE:GREGORIAN
METHOD:PUBLISH
X-ORIGINAL-URL:https://bsboffice.de
X-WR-CALDESC:Veranstaltungen für 
REFRESH-INTERVAL;VALUE=DURATION:PT1H
X-Robots-Tag:noindex
X-PUBLISHED-TTL:PT1H
BEGIN:VTIMEZONE
TZID:UTC
BEGIN:STANDARD
TZOFFSETFROM:+0000
TZOFFSETTO:+0000
TZNAME:UTC
DTSTART:20200101T000000
END:STANDARD
END:VTIMEZONE
BEGIN:VEVENT
DTSTART;TZID=UTC:20210607T180000
DTEND;TZID=UTC:20210607T190000
DTSTAMP:20260419T220243
CREATED:20210531T200136Z
LAST-MODIFIED:20210531T200208Z
UID:11116-1623088800-1623092400@bsboffice.de
SUMMARY:RG Dresden: Angemessenes Konfliktverhalten im Büro und überall (ZOOM)
DESCRIPTION:Referentin: Petra C. Erdmann \nAm Arbeitsplatz und im Privatbereich verbringen wir viel Zeit mit anderen Menschen. Verschiedene Persönlichkeiten\, Werte\, Erfahrungen und Ziele treffen aufeinander. Dies kann zu Zusammenstößen führen. Wie können wir angemessen auf Konflikte reagieren?
URL:https://bsboffice.de/event/rg-dresden-angemessenes-konfliktverhalten-im-buero-und-ueberall-zoom/
CATEGORIES:Regionalgruppe Dresden,Regionalgruppen
END:VEVENT
END:VCALENDAR